BEGIN:VCALENDAR
VERSION:2.0
PRODID:-//FACVL - ECPv6.0.8//NONSGML v1.0//EN
CALSCALE:GREGORIAN
METHOD:PUBLISH
X-WR-CALNAME:FACVL
X-ORIGINAL-URL:https://facvl.lu
X-WR-CALDESC:évènements pour FACVL
REFRESH-INTERVAL;VALUE=DURATION:PT1H
X-Robots-Tag:noindex
X-PUBLISHED-TTL:PT1H
BEGIN:VTIMEZONE
TZID:Europe/Paris
BEGIN:DAYLIGHT
TZOFFSETFROM:+0100
TZOFFSETTO:+0200
TZNAME:CEST
DTSTART:20260329T010000
END:DAYLIGHT
BEGIN:STANDARD
TZOFFSETFROM:+0200
TZOFFSETTO:+0100
TZNAME:CET
DTSTART:20261025T010000
END:STANDARD
END:VTIMEZONE
BEGIN:VEVENT
DTSTART;TZID=Europe/Paris:20260214T220000
DTEND;TZID=Europe/Paris:20260315T030000
DTSTAMP:20260422T021330
CREATED:20260116T071211Z
LAST-MODIFIED:20260116T071211Z
UID:9843-1771106400-1773543600@facvl.lu
SUMMARY:ARAGAO LIVE SHOWCASE
DESCRIPTION:
URL:https://facvl.lu/event/aragao-live-showcase/
LOCATION:Black Belval\, 371\, route de Belval\, Esch-sur-Alzette\, 4024
ATTACH;FMTTYPE=image/jpeg:https://facvl.lu/wp-content/uploads/2026/01/ARAGAOLIVESHOWCASE.jpg
END:VEVENT
BEGIN:VEVENT
DTSTART;VALUE=DATE:20260301
DTEND;VALUE=DATE:20260302
DTSTAMP:20260422T021330
CREATED:20260227T133520Z
LAST-MODIFIED:20260227T133520Z
UID:10320-1772323200-1772409599@facvl.lu
SUMMARY:ESCHER CAVALCADE
DESCRIPTION:
URL:https://facvl.lu/event/escher-cavalcade/
LOCATION:Sammy’s Bar\, 23\, Rue du Commerce\, Esch-sur-Alzette\, 4067
ATTACH;FMTTYPE=image/png:https://facvl.lu/wp-content/uploads/2026/02/Capture-decran-2026-02-27-142837.png
END:VEVENT
BEGIN:VEVENT
DTSTART;TZID=Europe/Paris:20260307T170000
DTEND;TZID=Europe/Paris:20260307T220000
DTSTAMP:20260422T021330
CREATED:20260218T080738Z
LAST-MODIFIED:20260218T080738Z
UID:10180-1772902800-1772920800@facvl.lu
SUMMARY:JOURNÉE DEDIÉE AUX FEMMES
DESCRIPTION:
URL:https://facvl.lu/event/journee-dediee-aux-femmes/
LOCATION:Estrela do Norte\, 50\, Boulevard Grand-Duchesse Charlotte\, Ettelbruck
ATTACH;FMTTYPE=image/jpeg:https://facvl.lu/wp-content/uploads/2026/02/3.jpeg
END:VEVENT
BEGIN:VEVENT
DTSTART;TZID=Europe/Paris:20260307T190000
DTEND;TZID=Europe/Paris:20260307T190000
DTSTAMP:20260422T021330
CREATED:20260304T074407Z
LAST-MODIFIED:20260304T074407Z
UID:10419-1772910000-1772910000@facvl.lu
SUMMARY:Especial Musica ao Vivo - DIA DAS MULHERES
DESCRIPTION:
URL:https://facvl.lu/event/especial-musica-ao-vivo-dia-das-mulheres/
LOCATION:Veteranos do Norte\, 50\, Boulevard Grande-Duchesse Charlotte\, Ettelbruck\, L-9024
ATTACH;FMTTYPE=image/jpeg:https://facvl.lu/wp-content/uploads/2026/03/645420436_25840971165572323_3690667441498399472_n.jpg
END:VEVENT
BEGIN:VEVENT
DTSTART;TZID=Europe/Paris:20260307T210000
DTEND;TZID=Europe/Paris:20260308T030000
DTSTAMP:20260422T021330
CREATED:20260209T100507Z
LAST-MODIFIED:20260209T100507Z
UID:10117-1772917200-1772938800@facvl.lu
SUMMARY:Noite RABECADA
DESCRIPTION:
URL:https://facvl.lu/event/noite-rabecada/
LOCATION:Restaurant Odeon\, 10\, Rue Munchen-Tesch\, Weimerskirch\, 2173\, Luxembourg
ATTACH;FMTTYPE=image/jpeg:https://facvl.lu/wp-content/uploads/2026/02/627455232_10238484674433347_5813898294165059230_n.jpg
END:VEVENT
BEGIN:VEVENT
DTSTART;TZID=Europe/Paris:20260307T220000
DTEND;TZID=Europe/Paris:20260308T030000
DTSTAMP:20260422T021330
CREATED:20260209T095841Z
LAST-MODIFIED:20260219T095827Z
UID:10107-1772920800-1772938800@facvl.lu
SUMMARY:Journée de la femme
DESCRIPTION:
URL:https://facvl.lu/event/journee-de-la-femme/
LOCATION:Alen Atelier\, Route du Moulin\, Schieren
ATTACH;FMTTYPE=image/jpeg:https://facvl.lu/wp-content/uploads/2026/02/WhatsApp-Image-2026-02-19-at-10.47.45.jpeg
END:VEVENT
BEGIN:VEVENT
DTSTART;TZID=Europe/Paris:20260308T120000
DTEND;TZID=Europe/Paris:20260308T120000
DTSTAMP:20260422T021330
CREATED:20260121T082315Z
LAST-MODIFIED:20260121T082315Z
UID:9885-1772971200-1772971200@facvl.lu
SUMMARY:Dîner solidaire - EducActions
DESCRIPTION:
URL:https://facvl.lu/event/diner-solidaire-educactions/
LOCATION:UM ECK Brasserie\, 10\, Rue Principale\, Hostert\, 6990
ATTACH;FMTTYPE=image/jpeg:https://facvl.lu/wp-content/uploads/2026/01/WhatsApp-Image-2026-01-20-at-23.00.26.jpeg
END:VEVENT
BEGIN:VEVENT
DTSTART;TZID=Europe/Paris:20260314T153000
DTEND;TZID=Europe/Paris:20260315T120000
DTSTAMP:20260422T021330
CREATED:20260310T080448Z
LAST-MODIFIED:20260310T080448Z
UID:10497-1773502200-1773576000@facvl.lu
SUMMARY:Formation en Programmation Neurolinguistique
DESCRIPTION:
URL:https://facvl.lu/event/formation-en-programmation-neurolinguistique/
ATTACH;FMTTYPE=image/jpeg:https://facvl.lu/wp-content/uploads/2026/03/Sans-titre2.jpg
END:VEVENT
BEGIN:VEVENT
DTSTART;TZID=Europe/Paris:20260314T200000
DTEND;TZID=Europe/Paris:20260315T030000
DTSTAMP:20260422T021330
CREATED:20260310T142241Z
LAST-MODIFIED:20260310T142241Z
UID:10512-1773518400-1773543600@facvl.lu
SUMMARY:DINER & MUSIQUE LIVE
DESCRIPTION:
URL:https://facvl.lu/event/diner-musique-live/
LOCATION:Foodelicious Team\, 58\, Rued de l'Eglise\, Niederkorn\, 4552
ATTACH;FMTTYPE=image/jpeg:https://facvl.lu/wp-content/uploads/2026/03/Sans-titre-2.jpg
END:VEVENT
BEGIN:VEVENT
DTSTART;TZID=Europe/Paris:20260314T230000
DTEND;TZID=Europe/Paris:20260314T230000
DTSTAMP:20260422T021330
CREATED:20260130T152048Z
LAST-MODIFIED:20260130T153851Z
UID:10024-1773529200-1773529200@facvl.lu
SUMMARY:Constantino Cardoso
DESCRIPTION:
URL:https://facvl.lu/event/constantino-cardoso/
LOCATION:Club Lenox\, 58 Rue du Fort Neipperg\, Luxembourg-Gare\, 2230
ATTACH;FMTTYPE=image/png:https://facvl.lu/wp-content/uploads/2026/01/Capture-decran-2026-01-30-161207.png
END:VEVENT
BEGIN:VEVENT
DTSTART;TZID=Europe/Paris:20260315T160000
DTEND;TZID=Europe/Paris:20260315T160000
DTSTAMP:20260422T021330
CREATED:20260310T141659Z
LAST-MODIFIED:20260310T141659Z
UID:10506-1773590400-1773590400@facvl.lu
SUMMARY:PAGA LUZ
DESCRIPTION:
URL:https://facvl.lu/event/paga-luz/
LOCATION:Casa Kriola\, 39\, Bd Prince Henri\, Esch-sur-Alzette\, 4280\, Luxembourg
ATTACH;FMTTYPE=image/jpeg:https://facvl.lu/wp-content/uploads/2026/03/2Sans-titre.jpg
END:VEVENT
BEGIN:VEVENT
DTSTART;TZID=Europe/Paris:20260321T190000
DTEND;TZID=Europe/Paris:20260321T190000
DTSTAMP:20260422T021330
CREATED:20260219T081045Z
LAST-MODIFIED:20260219T081045Z
UID:10196-1774119600-1774119600@facvl.lu
SUMMARY:LIVE SHOW
DESCRIPTION:
URL:https://facvl.lu/event/live-show-2/
LOCATION:Veteranos do Norte\, 50\, Boulevard Grande-Duchesse Charlotte\, Ettelbruck\, L-9024
ATTACH;FMTTYPE=image/jpeg:https://facvl.lu/wp-content/uploads/2026/02/638136666_25720193237650117_4516812948229561561_n.jpg
END:VEVENT
BEGIN:VEVENT
DTSTART;TZID=Europe/Paris:20260322T190000
DTEND;TZID=Europe/Paris:20260322T190000
DTSTAMP:20260422T021330
CREATED:20260220T074248Z
LAST-MODIFIED:20260220T074248Z
UID:10217-1774206000-1774206000@facvl.lu
SUMMARY:Pilon au FESTIVAL DES MIGRATIONS
DESCRIPTION:
URL:https://facvl.lu/event/pilon-au-festival-des-migrations/
LOCATION:LuxExpo\, 10 Circuit de La Foire Internationale\, Luxembourg-Ville\, L-1347\, Luxembourg
ATTACH;FMTTYPE=image/jpeg:https://facvl.lu/wp-content/uploads/2026/02/1Sans-titre.jpg
END:VEVENT
BEGIN:VEVENT
DTSTART;TZID=Europe/Paris:20260327T170000
DTEND;TZID=Europe/Paris:20260327T220000
DTSTAMP:20260422T021330
CREATED:20260319T104135Z
LAST-MODIFIED:20260319T153643Z
UID:10628-1774630800-1774648800@facvl.lu
SUMMARY:Journée de la Femme Capverdienne
DESCRIPTION:
URL:https://facvl.lu/event/journee-de-la-femme-capverdienne-2/
LOCATION:Centre Sociétaire\, 29\, Rue de Strasbourg\, Luxembourg\, 1839
ATTACH;FMTTYPE=image/jpeg:https://facvl.lu/wp-content/uploads/2026/03/WhatsApp-Image-2026-03-19-at-16.15.29.jpeg
END:VEVENT
BEGIN:VEVENT
DTSTART;TZID=Europe/Paris:20260327T190000
DTEND;TZID=Europe/Paris:20260327T190000
DTSTAMP:20260422T021330
CREATED:20260326T150916Z
LAST-MODIFIED:20260326T150916Z
UID:10719-1774638000-1774638000@facvl.lu
SUMMARY:CONVERSA ABERTA - Dia da Mulher Caboverdiana
DESCRIPTION:
URL:https://facvl.lu/event/conversa-aberta-dia-da-mulher-caboverdiana/
LOCATION:Veteranos do Norte\, 50\, Boulevard Grande-Duchesse Charlotte\, Ettelbruck\, L-9024
ATTACH;FMTTYPE=image/jpeg:https://facvl.lu/wp-content/uploads/2026/03/657165768_26059129963756441_1992265905508927355_n.jpg
END:VEVENT
BEGIN:VEVENT
DTSTART;TZID=Europe/Paris:20260328T153000
DTEND;TZID=Europe/Paris:20260328T153000
DTSTAMP:20260422T021330
CREATED:20260317T125619Z
LAST-MODIFIED:20260317T183510Z
UID:10599-1774711800-1774711800@facvl.lu
SUMMARY:Encontro de Mulheres Cabo-verdianas
DESCRIPTION:
URL:https://facvl.lu/event/encontro-de-mulheres-cabo-verdianas/
LOCATION:Sede de Estrela do Norte\, 50\, Boulevard Grand-Duchesse Charlotte\, Ettelbruck
ATTACH;FMTTYPE=image/jpeg:https://facvl.lu/wp-content/uploads/2026/03/WhatsApp-Image-2026-03-16-at-16.34.39-1.jpeg
END:VEVENT
BEGIN:VEVENT
DTSTART;TZID=Europe/Paris:20260328T190000
DTEND;TZID=Europe/Paris:20260328T190000
DTSTAMP:20260422T021330
CREATED:20260113T083032Z
LAST-MODIFIED:20260126T120822Z
UID:9729-1774724400-1774724400@facvl.lu
SUMMARY:Noite de Gala - Dia da Mulher Caboverdiana
DESCRIPTION:
URL:https://facvl.lu/event/noite-de-gala-dia-da-mulher-caboverdiana/
LOCATION:Centre Culturel de Cessange\, 1\, Rue St. Joseph\, Luxembourg\, 1838
ATTACH;FMTTYPE=image/png:https://facvl.lu/wp-content/uploads/2026/01/1.png
END:VEVENT
BEGIN:VEVENT
DTSTART;TZID=Europe/Paris:20260328T200000
DTEND;TZID=Europe/Paris:20260329T030000
DTSTAMP:20260422T021330
CREATED:20260317T130002Z
LAST-MODIFIED:20260317T130142Z
UID:10606-1774728000-1774753200@facvl.lu
SUMMARY:Feliz DIA DA MULHER CABO-VERDIANA
DESCRIPTION:
URL:https://facvl.lu/event/feliz-dia-da-mulher-cabo_verdiana/
ATTACH;FMTTYPE=image/jpeg:https://facvl.lu/wp-content/uploads/2026/03/WhatsApp-Image-2026-03-17-at-12.16.32.jpeg
END:VEVENT
BEGIN:VEVENT
DTSTART;TZID=Europe/Paris:20260328T220000
DTEND;TZID=Europe/Paris:20260329T030000
DTSTAMP:20260422T021330
CREATED:20260326T151234Z
LAST-MODIFIED:20260326T151234Z
UID:10725-1774735200-1774753200@facvl.lu
SUMMARY:DJ SEMEDO - Dia da mulher caboverdiana
DESCRIPTION:
URL:https://facvl.lu/event/dj-semedo-dia-da-mulher-caboverdiana/
LOCATION:Café la Poste\, 7\, Esplanade\, Diekirch\, 9227
ATTACH;FMTTYPE=image/jpeg:https://facvl.lu/wp-content/uploads/2026/03/655930582_10240199862592356_1454196530793875823_n.jpg
END:VEVENT
BEGIN:VEVENT
DTSTART;TZID=Europe/Paris:20260331T193000
DTEND;TZID=Europe/Paris:20260331T193000
DTSTAMP:20260422T021330
CREATED:20260327T172607Z
LAST-MODIFIED:20260330T080153Z
UID:10814-1774985400-1774985400@facvl.lu
SUMMARY:Match Amical AS RED BLACK - MINDELENSE
DESCRIPTION:
URL:https://facvl.lu/event/match-amical-as-red-black-mindelense/
LOCATION:Pafendall\, 100\, Rue Laurent Ménager\, Luxembourg
ATTACH;FMTTYPE=image/jpeg:https://facvl.lu/wp-content/uploads/2026/03/Sans-titre-5.jpg
END:VEVENT
END:VCALENDAR