BEGIN:VCALENDAR
VERSION:2.0
PRODID:-//FACVL - ECPv6.0.8//NONSGML v1.0//EN
CALSCALE:GREGORIAN
METHOD:PUBLISH
X-ORIGINAL-URL:https://facvl.lu
X-WR-CALDESC:évènements pour FACVL
REFRESH-INTERVAL;VALUE=DURATION:PT1H
X-Robots-Tag:noindex
X-PUBLISHED-TTL:PT1H
BEGIN:VTIMEZONE
TZID:Europe/Paris
BEGIN:DAYLIGHT
TZOFFSETFROM:+0100
TZOFFSETTO:+0200
TZNAME:CEST
DTSTART:20260329T010000
END:DAYLIGHT
BEGIN:STANDARD
TZOFFSETFROM:+0200
TZOFFSETTO:+0100
TZNAME:CET
DTSTART:20261025T010000
END:STANDARD
END:VTIMEZONE
BEGIN:VEVENT
DTSTART;VALUE=DATE:20260207
DTEND;VALUE=DATE:20260208
DTSTAMP:20260422T041210
CREATED:20260113T074319Z
LAST-MODIFIED:20260113T075638Z
UID:9706-1770422400-1770508799@facvl.lu
SUMMARY:Fest Show Lux
DESCRIPTION:
URL:https://facvl.lu/event/fest-show-lux/
LOCATION:Hall Ô\, Av. du Parc des Sports\, Oberkorn\, 4671
ATTACH;FMTTYPE=image/jpeg:https://facvl.lu/wp-content/uploads/2026/01/IMG-20260113-WA0000.jpg
END:VEVENT
BEGIN:VEVENT
DTSTART;TZID=Europe/Paris:20260208T180000
DTEND;TZID=Europe/Paris:20260208T180000
DTSTAMP:20260422T041210
CREATED:20260206T153658Z
LAST-MODIFIED:20260206T153737Z
UID:10088-1770573600-1770573600@facvl.lu
SUMMARY:Musique Live
DESCRIPTION:
URL:https://facvl.lu/event/10088/
LOCATION:Café Bar Player’s\, 110\, Rue de Bonnevoie\, Luxembourg
ATTACH;FMTTYPE=image/jpeg:https://facvl.lu/wp-content/uploads/2026/02/2.jpg
END:VEVENT
BEGIN:VEVENT
DTSTART;VALUE=DATE:20260210
DTEND;VALUE=DATE:20260215
DTSTAMP:20260422T041210
CREATED:20260121T083456Z
LAST-MODIFIED:20260121T083456Z
UID:9894-1770681600-1771113599@facvl.lu
SUMMARY:Semaine de solidarité
DESCRIPTION:
URL:https://facvl.lu/event/semaine-de-solidarite/
LOCATION:Châlet de Bonnevoie\, 115\, Rue Anatole France\, Bonnevoie\, 1260
ATTACH;FMTTYPE=image/jpeg:https://facvl.lu/wp-content/uploads/2026/01/616819479_122157383672739011_8615675790831692212_n.jpg
END:VEVENT
BEGIN:VEVENT
DTSTART;TZID=Europe/Paris:20260213T190000
DTEND;TZID=Europe/Paris:20260213T190000
DTSTAMP:20260422T041210
CREATED:20260213T075818Z
LAST-MODIFIED:20260213T075818Z
UID:10144-1771009200-1771009200@facvl.lu
SUMMARY:Animação CARNAVAL
DESCRIPTION:
URL:https://facvl.lu/event/animacao-carnaval/
LOCATION:Veteranos do Norte\, 50\, Boulevard Grande-Duchesse Charlotte\, Ettelbruck\, L-9024
ATTACH;FMTTYPE=image/jpeg:https://facvl.lu/wp-content/uploads/2026/02/629660154_25665409919795116_3908788848933075033_n.jpg
END:VEVENT
BEGIN:VEVENT
DTSTART;TZID=Europe/Paris:20260214T000000
DTEND;TZID=Europe/Paris:20260214T000000
DTSTAMP:20260422T041210
CREATED:20260203T102412Z
LAST-MODIFIED:20260203T102412Z
UID:10067-1771027200-1771027200@facvl.lu
SUMMARY:Spécial SAINT VALENTIN
DESCRIPTION:
URL:https://facvl.lu/event/special-saint-valentin/
LOCATION:Restaurant Pepperoni\, 53\, avenue de la Gare\, Diekirch\, 9233
ATTACH;FMTTYPE=image/jpeg:https://facvl.lu/wp-content/uploads/2026/02/625042296_10239369895963709_688534318285502618_n.jpg
END:VEVENT
BEGIN:VEVENT
DTSTART;TZID=Europe/Paris:20260214T190000
DTEND;TZID=Europe/Paris:20260214T190000
DTSTAMP:20260422T041210
CREATED:20260115T070833Z
LAST-MODIFIED:20260115T070833Z
UID:9820-1771095600-1771095600@facvl.lu
SUMMARY:Saint Valentin - Jantar de Gala
DESCRIPTION:
URL:https://facvl.lu/event/saint-valentin-jantar-de-gala/
LOCATION:Centre Culturel de Rumelange\, 90\, N33\, Rumelange\, 3730
ATTACH;FMTTYPE=image/jpeg:https://facvl.lu/wp-content/uploads/2026/01/IMG-20260115-WA0000.jpg
END:VEVENT
BEGIN:VEVENT
DTSTART;TZID=Europe/Paris:20260214T190000
DTEND;TZID=Europe/Paris:20260215T060000
DTSTAMP:20260422T041210
CREATED:20260202T155521Z
LAST-MODIFIED:20260202T155521Z
UID:10049-1771095600-1771135200@facvl.lu
SUMMARY:LOVE NIGHT - Valentines Day
DESCRIPTION:
URL:https://facvl.lu/event/love-night-valentines-day/
LOCATION:Food Station\, 28\, Place de la Gare\, Luxembourg\, 1616
ATTACH;FMTTYPE=image/jpeg:https://facvl.lu/wp-content/uploads/2026/02/WhatsApp-Image-2026-02-02-at-16.07.03.jpeg
END:VEVENT
BEGIN:VEVENT
DTSTART;TZID=Europe/Paris:20260214T220000
DTEND;TZID=Europe/Paris:20260315T030000
DTSTAMP:20260422T041210
CREATED:20260116T071211Z
LAST-MODIFIED:20260116T071211Z
UID:9843-1771106400-1773543600@facvl.lu
SUMMARY:ARAGAO LIVE SHOWCASE
DESCRIPTION:
URL:https://facvl.lu/event/aragao-live-showcase/
LOCATION:Black Belval\, 371\, route de Belval\, Esch-sur-Alzette\, 4024
ATTACH;FMTTYPE=image/jpeg:https://facvl.lu/wp-content/uploads/2026/01/ARAGAOLIVESHOWCASE.jpg
END:VEVENT
BEGIN:VEVENT
DTSTART;VALUE=DATE:20260220
DTEND;VALUE=DATE:20260221
DTSTAMP:20260422T041210
CREATED:20260202T155916Z
LAST-MODIFIED:20260202T155916Z
UID:10057-1771545600-1771631999@facvl.lu
SUMMARY:ELJI BEATZKILLA
DESCRIPTION:
URL:https://facvl.lu/event/elji-beatzkilla/
LOCATION:Encore\, 41\, Rue de Bouillon\, Luxembourg\, 1248
ATTACH;FMTTYPE=image/jpeg:https://facvl.lu/wp-content/uploads/2026/02/WhatsApp-Image-2026-02-02-at-16.39.43.jpeg
END:VEVENT
BEGIN:VEVENT
DTSTART;TZID=Europe/Paris:20260220T230000
DTEND;TZID=Europe/Paris:20260221T060000
DTSTAMP:20260422T041210
CREATED:20260113T222816Z
LAST-MODIFIED:20260113T222816Z
UID:9777-1771628400-1771653600@facvl.lu
SUMMARY:Carnaval
DESCRIPTION:
URL:https://facvl.lu/event/carnaval/
LOCATION:Club Lenox\, 58 Rue du Fort Neipperg\, Luxembourg-Gare\, 2230
ATTACH;FMTTYPE=image/jpeg:https://facvl.lu/wp-content/uploads/2026/01/IMG-20260113-WA0035.jpg
END:VEVENT
BEGIN:VEVENT
DTSTART;TZID=Europe/Paris:20260221T190000
DTEND;TZID=Europe/Paris:20260221T190000
DTSTAMP:20260422T041210
CREATED:20260217T113410Z
LAST-MODIFIED:20260217T113410Z
UID:10159-1771700400-1771700400@facvl.lu
SUMMARY:SOIRÉE CAP-VERDIENNE
DESCRIPTION:
URL:https://facvl.lu/event/soiree-cap-verdienne/
LOCATION:Complexe de Betange\, Florange\, France
ATTACH;FMTTYPE=image/jpeg:https://facvl.lu/wp-content/uploads/2026/02/Sans-titre.jpg
END:VEVENT
BEGIN:VEVENT
DTSTART;TZID=Europe/Paris:20260222T170000
DTEND;TZID=Europe/Paris:20260222T170000
DTSTAMP:20260422T041210
CREATED:20260217T113925Z
LAST-MODIFIED:20260217T113925Z
UID:10166-1771779600-1771779600@facvl.lu
SUMMARY:MATINÉ
DESCRIPTION:
URL:https://facvl.lu/event/matine/
LOCATION:Casa Kriola\, 39\, Bd Prince Henri\, Esch-sur-Alzette\, 4280\, Luxembourg
ATTACH;FMTTYPE=image/jpeg:https://facvl.lu/wp-content/uploads/2026/02/Sans-titre2.jpg
END:VEVENT
BEGIN:VEVENT
DTSTART;TZID=Europe/Paris:20260224T190000
DTEND;TZID=Europe/Paris:20260224T220000
DTSTAMP:20260422T041210
CREATED:20260116T084418Z
LAST-MODIFIED:20260116T131730Z
UID:9863-1771959600-1771970400@facvl.lu
SUMMARY:Projection du film : "Mãe"
DESCRIPTION:
URL:https://facvl.lu/event/projection-du-film-mae/
LOCATION:Kinosch\, 116\, rue de Luxembourg\, Esch-sur-Alzette\, 4221
ATTACH;FMTTYPE=image/png:https://facvl.lu/wp-content/uploads/2026/01/Mae-1.png
ORGANIZER;CN="Info-Zenter%20Demenz%20et%20Escher%20BiBSS":MAILTO:info@demenz.lu
END:VEVENT
BEGIN:VEVENT
DTSTART;VALUE=DATE:20260228
DTEND;VALUE=DATE:20260301
DTSTAMP:20260422T041210
CREATED:20260126T090312Z
LAST-MODIFIED:20260126T090312Z
UID:9944-1772236800-1772323199@facvl.lu
SUMMARY:LEMBRA TEMPO - Edição Mascarados
DESCRIPTION:
URL:https://facvl.lu/event/lembra-tempo-edicao-mascarados/
LOCATION:Seven\, 1 Schlammestee\, Weiler la Tour\, 5773
ATTACH;FMTTYPE=image/jpeg:https://facvl.lu/wp-content/uploads/2026/01/620320839_18254011126295687_2796801969258370244_n.jpg
END:VEVENT
END:VCALENDAR