BEGIN:VCALENDAR
VERSION:2.0
PRODID:-//FACVL - ECPv6.0.8//NONSGML v1.0//EN
CALSCALE:GREGORIAN
METHOD:PUBLISH
X-WR-CALNAME:FACVL
X-ORIGINAL-URL:https://facvl.lu
X-WR-CALDESC:évènements pour FACVL
REFRESH-INTERVAL;VALUE=DURATION:PT1H
X-Robots-Tag:noindex
X-PUBLISHED-TTL:PT1H
BEGIN:VTIMEZONE
TZID:Europe/Paris
BEGIN:DAYLIGHT
TZOFFSETFROM:+0100
TZOFFSETTO:+0200
TZNAME:CEST
DTSTART:20260329T010000
END:DAYLIGHT
BEGIN:STANDARD
TZOFFSETFROM:+0200
TZOFFSETTO:+0100
TZNAME:CET
DTSTART:20261025T010000
END:STANDARD
END:VTIMEZONE
BEGIN:VEVENT
DTSTART;TZID=Europe/Paris:20260103T220000
DTEND;TZID=Europe/Paris:20260104T030000
DTSTAMP:20260422T060009
CREATED:20251229T104623Z
LAST-MODIFIED:20251229T104623Z
UID:9601-1767477600-1767495600@facvl.lu
SUMMARY:Festa de Ressaca
DESCRIPTION:
URL:https://facvl.lu/event/festa-de-ressaca/
LOCATION:Restaurant Pepperoni\, 53\, avenue de la Gare\, Diekirch\, 9233
ATTACH;FMTTYPE=image/jpeg:https://facvl.lu/wp-content/uploads/2025/12/605100243_1640069804068737_6416141942278515797_n.jpg
END:VEVENT
BEGIN:VEVENT
DTSTART;TZID=Europe/Paris:20260110T190000
DTEND;TZID=Europe/Paris:20260110T190000
DTSTAMP:20260422T060009
CREATED:20260109T080203Z
LAST-MODIFIED:20260109T080601Z
UID:9679-1768071600-1768071600@facvl.lu
SUMMARY:Música ao Vivo
DESCRIPTION:
URL:https://facvl.lu/event/musica-ao-vivo/
ATTACH;FMTTYPE=image/jpeg:https://facvl.lu/wp-content/uploads/2026/01/xWofWiRb.jpg
END:VEVENT
BEGIN:VEVENT
DTSTART;TZID=Europe/Paris:20260111T160000
DTEND;TZID=Europe/Paris:20260111T160000
DTSTAMP:20260422T060009
CREATED:20260109T080520Z
LAST-MODIFIED:20260109T080849Z
UID:9686-1768147200-1768147200@facvl.lu
SUMMARY:Fabio Dias et Dany Delgado
DESCRIPTION:
URL:https://facvl.lu/event/fabio-dias-et-dany-delgado/
ATTACH;FMTTYPE=image/jpeg:https://facvl.lu/wp-content/uploads/2026/01/vrUvNXeI.jpg
END:VEVENT
BEGIN:VEVENT
DTSTART;TZID=Europe/Paris:20260116T080000
DTEND;TZID=Europe/Paris:20260116T170000
DTSTAMP:20260422T060009
CREATED:20260116T073407Z
LAST-MODIFIED:20260116T073407Z
UID:9860-1768550400-1768582800@facvl.lu
SUMMARY:Old School Chill
DESCRIPTION:
URL:https://facvl.lu/event/old-school-chill/
ATTACH;FMTTYPE=image/png:https://facvl.lu/wp-content/uploads/2026/01/Capture-decran-2026-01-16-082815.png
END:VEVENT
BEGIN:VEVENT
DTSTART;TZID=Europe/Paris:20260117T170000
DTEND;TZID=Europe/Paris:20260117T170000
DTSTAMP:20260422T060009
CREATED:20251217T111553Z
LAST-MODIFIED:20251217T111941Z
UID:9417-1768669200-1768669200@facvl.lu
SUMMARY:Messe de Saint Amarant / Missa de Santo Amaro
DESCRIPTION:
URL:https://facvl.lu/event/messe-de-saint-amarant-missa-de-santo-amaro/
LOCATION:Esch (église de Lallange) et Schifflange (HSDV – salle Caxtor)
ATTACH;FMTTYPE=image/jpeg:https://facvl.lu/wp-content/uploads/2025/12/598831341_4172312946349820_4225869171782906787_n.jpg
END:VEVENT
BEGIN:VEVENT
DTSTART;TZID=Europe/Paris:20260117T183000
DTEND;TZID=Europe/Paris:20260117T223000
DTSTAMP:20260422T060009
CREATED:20260115T071443Z
LAST-MODIFIED:20260115T071443Z
UID:9827-1768674600-1768689000@facvl.lu
SUMMARY:Soirée intimiste - MUSIC LIVE
DESCRIPTION:
URL:https://facvl.lu/event/soiree-intimiste-music-live/
LOCATION:Picante – tradicional petiscos\, 10; Rue Josephe Junck\, Luxembourg\, 1839
ATTACH;FMTTYPE=image/jpeg:https://facvl.lu/wp-content/uploads/2026/01/4gF7Hi8i.jpg
END:VEVENT
BEGIN:VEVENT
DTSTART;VALUE=DATE:20260119
DTEND;VALUE=DATE:20260128
DTSTAMP:20260422T060009
CREATED:20260116T073020Z
LAST-MODIFIED:20260116T073856Z
UID:9852-1768780800-1769558399@facvl.lu
SUMMARY:Cabo Verde : Morabeza na CAPE
DESCRIPTION:
URL:https://facvl.lu/event/cabo-verde-morabeza-na-cape/
LOCATION:CAPE – Centre des Arts Pluriels Ettelbruck\, 1\, place Marie-Adélaïde\, Ettelbruck\, L-9063
ATTACH;FMTTYPE=image/jpeg:https://facvl.lu/wp-content/uploads/2026/01/CV-na-CAPE.jpg
END:VEVENT
BEGIN:VEVENT
DTSTART;TZID=Europe/Paris:20260123T200000
DTEND;TZID=Europe/Paris:20260123T200000
DTSTAMP:20260422T060009
CREATED:20260121T130154Z
LAST-MODIFIED:20260121T130154Z
UID:9902-1769198400-1769198400@facvl.lu
SUMMARY:Capverdian Party
DESCRIPTION:
URL:https://facvl.lu/event/capverdian-party/
LOCATION:CAPE – Centre des Arts Pluriels Ettelbruck\, 1\, place Marie-Adélaïde\, Ettelbruck\, L-9063
ATTACH;FMTTYPE=image/jpeg:https://facvl.lu/wp-content/uploads/2026/01/Sans-titre.jpg
END:VEVENT
BEGIN:VEVENT
DTSTART;TZID=Europe/Paris:20260124T000000
DTEND;TZID=Europe/Paris:20260124T000000
DTSTAMP:20260422T060009
CREATED:20251219T081500Z
LAST-MODIFIED:20251219T081500Z
UID:9539-1769212800-1769212800@facvl.lu
SUMMARY:I love Soncent
DESCRIPTION:
URL:https://facvl.lu/event/i-love-soncent-4/
LOCATION:Encore\, 41\, Rue de Bouillon\, Luxembourg\, 1248
ATTACH;FMTTYPE=image/jpeg:https://facvl.lu/wp-content/uploads/2025/12/IMG-20251218-WA0034.jpg
END:VEVENT
BEGIN:VEVENT
DTSTART;TZID=Europe/Paris:20260124T183000
DTEND;TZID=Europe/Paris:20260124T183000
DTSTAMP:20260422T060009
CREATED:20260116T111103Z
LAST-MODIFIED:20260116T111103Z
UID:9870-1769279400-1769279400@facvl.lu
SUMMARY:Soirée caritative capverdienne
DESCRIPTION:
URL:https://facvl.lu/event/soiree-caritative-capverdienne/
LOCATION:Restaurant La Duchessa\, 20\, Route de Bettembourg\, Kockelscheuer\, 1899
ATTACH;FMTTYPE=image/jpeg:https://facvl.lu/wp-content/uploads/2026/01/SmK.jpg
ORGANIZER;CN="LNB%20Lyc%C3%A9e%20Nic-Biever":MAILTO:soireeculturellecapverdienne@hotmail.com
END:VEVENT
BEGIN:VEVENT
DTSTART;VALUE=DATE:20260130
DTEND;VALUE=DATE:20260131
DTSTAMP:20260422T060009
CREATED:20260113T075007Z
LAST-MODIFIED:20260113T075655Z
UID:9715-1769731200-1769817599@facvl.lu
SUMMARY:Denis Graça
DESCRIPTION:
URL:https://facvl.lu/event/denis-graca/
LOCATION:Vanity\, 11\, Rue du Brill\, Foetz\, 3898
ATTACH;FMTTYPE=image/jpeg:https://facvl.lu/wp-content/uploads/2026/01/IMG-20260113-WA0001.jpg
END:VEVENT
BEGIN:VEVENT
DTSTART;VALUE=DATE:20260131
DTEND;VALUE=DATE:20260201
DTSTAMP:20260422T060009
CREATED:20260113T075609Z
LAST-MODIFIED:20260113T075609Z
UID:9720-1769817600-1769903999@facvl.lu
SUMMARY:OldSchool Music
DESCRIPTION:
URL:https://facvl.lu/event/oldschool-music/
LOCATION:Seven\, 1 Schlammestee\, Weiler la Tour\, 5773
ATTACH;FMTTYPE=image/jpeg:https://facvl.lu/wp-content/uploads/2026/01/IMG-20260113-WA0002.jpg
END:VEVENT
BEGIN:VEVENT
DTSTART;TZID=Europe/Paris:20260131T170000
DTEND;TZID=Europe/Paris:20260131T170000
DTSTAMP:20260422T060009
CREATED:20260126T091720Z
LAST-MODIFIED:20260126T091720Z
UID:9950-1769878800-1769878800@facvl.lu
SUMMARY:TARDE DE CONVÍVIO!
DESCRIPTION:
URL:https://facvl.lu/event/tarde-de-convivio/
LOCATION:Associação Amizade cabo-verdiana\, Rue Michel Welter\, Luxembourg
ATTACH;FMTTYPE=image/png:https://facvl.lu/wp-content/uploads/2026/01/Capture-decran-2026-01-26-101208.png
END:VEVENT
BEGIN:VEVENT
DTSTART;TZID=Europe/Paris:20260131T190000
DTEND;TZID=Europe/Paris:20260131T190000
DTSTAMP:20260422T060009
CREATED:20260129T071128Z
LAST-MODIFIED:20260129T071128Z
UID:10003-1769886000-1769886000@facvl.lu
SUMMARY:LIVE SHOW
DESCRIPTION:
URL:https://facvl.lu/event/live-show/
LOCATION:Veteranos do Norte\, 50\, Boulevard Grande-Duchesse Charlotte\, Ettelbruck\, L-9024
ATTACH;FMTTYPE=image/jpeg:https://facvl.lu/wp-content/uploads/2026/01/622148343_25528732380129538_1223330113140075563_n.jpg
END:VEVENT
END:VCALENDAR