BEGIN:VCALENDAR
VERSION:2.0
PRODID:-//FACVL - ECPv6.0.8//NONSGML v1.0//EN
CALSCALE:GREGORIAN
METHOD:PUBLISH
X-WR-CALNAME:FACVL
X-ORIGINAL-URL:https://facvl.lu
X-WR-CALDESC:évènements pour FACVL
REFRESH-INTERVAL;VALUE=DURATION:PT1H
X-Robots-Tag:noindex
X-PUBLISHED-TTL:PT1H
BEGIN:VTIMEZONE
TZID:Europe/Paris
BEGIN:DAYLIGHT
TZOFFSETFROM:+0100
TZOFFSETTO:+0200
TZNAME:CEST
DTSTART:20250330T010000
END:DAYLIGHT
BEGIN:STANDARD
TZOFFSETFROM:+0200
TZOFFSETTO:+0100
TZNAME:CET
DTSTART:20251026T010000
END:STANDARD
END:VTIMEZONE
BEGIN:VEVENT
DTSTART;TZID=Europe/Paris:20251011T180000
DTEND;TZID=Europe/Paris:20251011T230000
DTSTAMP:20260422T111725
CREATED:20250926T145924Z
LAST-MODIFIED:20250926T150036Z
UID:8967-1760205600-1760223600@facvl.lu
SUMMARY:Mayra Andrade\, Carmen Souza et Carisa Dias au Festival Atlântico
DESCRIPTION:
URL:https://facvl.lu/event/mayra-andrade-carmen-souza-et-carisa-dias-au-festival-atlantico/
LOCATION:Philhamonie\, 1 Pl. de l'Europe\, Luxembourg-Kirchberg\, L-1499
ATTACH;FMTTYPE=image/jpeg:https://facvl.lu/wp-content/uploads/2025/09/jt-1.jpg
END:VEVENT
BEGIN:VEVENT
DTSTART;TZID=Europe/Paris:20251018T180000
DTEND;TZID=Europe/Paris:20251019T000000
DTSTAMP:20260422T111725
CREATED:20250918T205510Z
LAST-MODIFIED:20250918T205510Z
UID:8952-1760810400-1760832000@facvl.lu
SUMMARY:Octobre Rose - Association des Femmes de Santo Antão
DESCRIPTION:
URL:https://facvl.lu/event/octobre-rose-association-des-femmes-de-santo-antao/
LOCATION:Maison du Peuple\, 60\, Boulevard John F. Kennedy\, Esch-sur-Alzette\, L - 4170
ATTACH;FMTTYPE=image/jpeg:https://facvl.lu/wp-content/uploads/2025/09/548398608_730158736737520_4820155323798369777_n.jpg
END:VEVENT
BEGIN:VEVENT
DTSTART;TZID=Europe/Paris:20251024T180000
DTEND;TZID=Europe/Paris:20251024T223000
DTSTAMP:20260422T111725
CREATED:20251022T210201Z
LAST-MODIFIED:20251022T210201Z
UID:9151-1761328800-1761345000@facvl.lu
SUMMARY:Convivial de Bisca
DESCRIPTION:
URL:https://facvl.lu/event/convivial-de-bisca/
LOCATION:Ancien chalet Scout\, Boulevard Grande-Duchesse Charlotte\, Ettelbruck
ATTACH;FMTTYPE=image/jpeg:https://facvl.lu/wp-content/uploads/2025/10/566269277_1149515283940904_409448070905315543_n.jpg
ORGANIZER;CN="Estrela%20do%20Norte":MAILTO:fcestrelaamadora@hotmail.fr
END:VEVENT
BEGIN:VEVENT
DTSTART;TZID=Europe/Paris:20251025T150000
DTEND;TZID=Europe/Paris:20251025T190000
DTSTAMP:20260422T111725
CREATED:20251023T141246Z
LAST-MODIFIED:20251023T141731Z
UID:9161-1761404400-1761418800@facvl.lu
SUMMARY:Exposition - Manuel Dias
DESCRIPTION:Manuel Dias est un artiste multidisciplinaire dont le travail couvre la peinture\, le dessin\, la sculpture\, la scénographie et les arts du spectacle. Né à São Vicente\, au Cap-Vert\, il a débuté sa carrière dans son pays natal avant de s’installer au Portugal\, puis au Luxembourg en 2009\, où il poursuit son activité artistique sous le nom de scène Blimundo. \nÀ travers ses œuvres\, Manuel Dias a illustré de nombreux livres et exploré différents univers artistiques. Pendant la pandémie\, il a repensé et réinventé la représentation du corps humain\, approfondissant le portrait réaliste au fusain et au graphisme\, tout en développant des sculptures et illustrations originales. Son parcours témoigne d’une créativité sans frontières et d’une capacité constante à renouveler son langage artistique.
URL:https://facvl.lu/event/exposition-manuel-dias/
LOCATION:Centre Culturel Larochette\, 19\, rue de Medernach\, Larochette\, L-7619
ATTACH;FMTTYPE=image/jpeg:https://facvl.lu/wp-content/uploads/2025/10/557020394_1331580665291173_8072715363473124592_n.jpg
END:VEVENT
BEGIN:VEVENT
DTSTART;TZID=Europe/Paris:20251025T200000
DTEND;TZID=Europe/Paris:20251025T233000
DTSTAMP:20260422T111725
CREATED:20251023T142702Z
LAST-MODIFIED:20251023T142702Z
UID:9169-1761422400-1761435000@facvl.lu
SUMMARY:Concert Calu Moreira - Winseler
DESCRIPTION:
URL:https://facvl.lu/event/concert-calu-moreira-winseler/
LOCATION:Salle Am Pëtz – Weidingen\, 25\, Rue du Village\, Wiltz\, L-9518
ATTACH;FMTTYPE=image/jpeg:https://facvl.lu/wp-content/uploads/2025/10/566213012_3243249765852825_5594113120754885834_n.jpg
END:VEVENT
BEGIN:VEVENT
DTSTART;TZID=Europe/Paris:20251025T220000
DTEND;TZID=Europe/Paris:20251026T030000
DTSTAMP:20260422T111725
CREATED:20251024T114752Z
LAST-MODIFIED:20251024T114933Z
UID:9178-1761429600-1761447600@facvl.lu
SUMMARY:Baile de Gira Disco
DESCRIPTION:
URL:https://facvl.lu/event/baile-de-gira-disco/
LOCATION:Salle Aalen Atelier\, 17\, rue de la Gare\, Schieren\, L-9122
ATTACH;FMTTYPE=image/jpeg:https://facvl.lu/wp-content/uploads/2025/10/571131571_24424656437212714_7631608456978656768_n.jpg
END:VEVENT
BEGIN:VEVENT
DTSTART;TZID=Europe/Paris:20251025T230000
DTEND;TZID=Europe/Paris:20251026T030000
DTSTAMP:20260422T111725
CREATED:20251023T140846Z
LAST-MODIFIED:20251023T141431Z
UID:9157-1761433200-1761447600@facvl.lu
SUMMARY:BlackBoys fête ses 30 ans
DESCRIPTION:L’association cabo-verdienne Black Boys\, basée au Luxembourg et dirigée par Cristiano Rodrigues\, est reconnue pour son travail sérieux dans le soutien social. Malgré la discrétion de son président\, le groupe a beaucoup fait pour le Cabo Verde\, en restant fidèle à ses racines. \nLe Black Boys soutient plusieurs institutions au Cabo Verde avec du matériel hospitalier\, scolaire\, etc. Récemment\, il a aidé l’île de São Vicente en envoyant plusieurs conteneurs grâce à ses événements et au tournoi de Pâques annuel au Luxembourg. \nLe samedi 25 octobre 2025\, aura lieu la grande fête des 30 ans du groupe\, célébrant son engagement envers la communauté cabo-verdienne au Luxembourg et au Cabo Verde.
URL:https://facvl.lu/event/blackboys-fete-ses-30-ans/
LOCATION:Centre Culturel de Cessange\, 1\, Rue St. Joseph\, Luxembourg\, 1838
ATTACH;FMTTYPE=image/jpeg:https://facvl.lu/wp-content/uploads/2025/10/566276255_25290956970510643_3575372842339808018_n.jpg
END:VEVENT
END:VCALENDAR