BEGIN:VCALENDAR
VERSION:2.0
PRODID:-//FACVL - ECPv6.0.8//NONSGML v1.0//EN
CALSCALE:GREGORIAN
METHOD:PUBLISH
X-ORIGINAL-URL:https://facvl.lu
X-WR-CALDESC:évènements pour FACVL
REFRESH-INTERVAL;VALUE=DURATION:PT1H
X-Robots-Tag:noindex
X-PUBLISHED-TTL:PT1H
BEGIN:VTIMEZONE
TZID:Europe/Paris
BEGIN:DAYLIGHT
TZOFFSETFROM:+0100
TZOFFSETTO:+0200
TZNAME:CEST
DTSTART:20250330T010000
END:DAYLIGHT
BEGIN:STANDARD
TZOFFSETFROM:+0200
TZOFFSETTO:+0100
TZNAME:CET
DTSTART:20251026T010000
END:STANDARD
END:VTIMEZONE
BEGIN:VEVENT
DTSTART;TZID=Europe/Paris:20250705T110000
DTEND;TZID=Europe/Paris:20250705T203000
DTSTAMP:20260422T155947
CREATED:20250116T185940Z
LAST-MODIFIED:20250628T112205Z
UID:7967-1751713200-1751747400@facvl.lu
SUMMARY:Fête de l'Indépendance du Cabo Verde - communauté au Luxembourg
DESCRIPTION:
URL:https://facvl.lu/event/fete-de-lindependance-du-cabo-verde-communaute-au-luxembourg/
LOCATION:Place du Parc\, Place du Parc\, Bonnevoie\, Luxembourg-Bonnevoie\, L- 2313
ATTACH;FMTTYPE=image/jpeg:https://facvl.lu/wp-content/uploads/2025/01/2.jpg
END:VEVENT
BEGIN:VEVENT
DTSTART;TZID=Europe/Paris:20250705T213000
DTEND;TZID=Europe/Paris:20250706T030000
DTSTAMP:20260422T155947
CREATED:20250628T123334Z
LAST-MODIFIED:20250628T123334Z
UID:8753-1751751000-1751770800@facvl.lu
SUMMARY:Concert 50 ans indépendence Cabo Verde
DESCRIPTION:
URL:https://facvl.lu/event/concert-50-ans-independence-cabo-verde/
LOCATION:Hall Ô\, Av. du Parc des Sports\, Oberkorn\, 4671
ATTACH;FMTTYPE=image/jpeg:https://facvl.lu/wp-content/uploads/2025/06/Sem-titulo.jpg
END:VEVENT
BEGIN:VEVENT
DTSTART;TZID=Europe/Paris:20250712T103000
DTEND;TZID=Europe/Paris:20250712T193000
DTSTAMP:20260422T155947
CREATED:20250703T213641Z
LAST-MODIFIED:20250711T151109Z
UID:8770-1752316200-1752348600@facvl.lu
SUMMARY:Tournoi de football Vivre Ensemble
DESCRIPTION:
URL:https://facvl.lu/event/tournoi-de-football-vivre-ensemble/
LOCATION:Complexe Sportif d’Erpeldange
ATTACH;FMTTYPE=image/jpeg:https://facvl.lu/wp-content/uploads/2025/07/514093095_24028733910127383_2012996591885924957_n.jpg
ORGANIZER;CN="Estrela%20do%20Norte":MAILTO:fcestrelaamadora@hotmail.fr
END:VEVENT
BEGIN:VEVENT
DTSTART;TZID=Europe/Paris:20250712T130000
DTEND;TZID=Europe/Paris:20250712T200000
DTSTAMP:20260422T155947
CREATED:20250711T151350Z
LAST-MODIFIED:20250711T151350Z
UID:8841-1752325200-1752350400@facvl.lu
SUMMARY:Taça Amilcar Cabral
DESCRIPTION:
URL:https://facvl.lu/event/taca-amilcar-cabral/
LOCATION:Stade Boy Konen\, 279\, rue des Sports\, Luxembourg-Cessange\, L-1221
ATTACH;FMTTYPE=image/jpeg:https://facvl.lu/wp-content/uploads/2025/07/ff.jpg
END:VEVENT
BEGIN:VEVENT
DTSTART;TZID=Europe/Paris:20250718T120000
DTEND;TZID=Europe/Paris:20250720T220000
DTSTAMP:20260422T155947
CREATED:20250116T185613Z
LAST-MODIFIED:20250505T190441Z
UID:7964-1752840000-1753048800@facvl.lu
SUMMARY:Weekend cap-verdien 2025
DESCRIPTION:
URL:https://facvl.lu/event/weekwend-cap-verdien-2025/
LOCATION:Hall du Deich\, 4\, rue du Deich\, Ettelbruck\, L-9012
ATTACH;FMTTYPE=image/jpeg:https://facvl.lu/wp-content/uploads/2025/01/474032578_1168528051554428_7214613772625041538_n.jpg
END:VEVENT
END:VCALENDAR