BEGIN:VCALENDAR
VERSION:2.0
PRODID:-//FACVL - ECPv6.0.8//NONSGML v1.0//EN
CALSCALE:GREGORIAN
METHOD:PUBLISH
X-WR-CALNAME:FACVL
X-ORIGINAL-URL:https://facvl.lu
X-WR-CALDESC:évènements pour FACVL
REFRESH-INTERVAL;VALUE=DURATION:PT1H
X-Robots-Tag:noindex
X-PUBLISHED-TTL:PT1H
BEGIN:VTIMEZONE
TZID:Europe/Paris
BEGIN:DAYLIGHT
TZOFFSETFROM:+0100
TZOFFSETTO:+0200
TZNAME:CEST
DTSTART:20250330T010000
END:DAYLIGHT
BEGIN:STANDARD
TZOFFSETFROM:+0200
TZOFFSETTO:+0100
TZNAME:CET
DTSTART:20251026T010000
END:STANDARD
END:VTIMEZONE
BEGIN:VEVENT
DTSTART;TZID=Europe/Paris:20250601T120000
DTEND;TZID=Europe/Paris:20250601T220000
DTSTAMP:20260422T180850
CREATED:20250526T191029Z
LAST-MODIFIED:20250526T191029Z
UID:8635-1748779200-1748815200@facvl.lu
SUMMARY:2ème anniversaire 'Amigos Sem Fronteiras'
DESCRIPTION:
URL:https://facvl.lu/event/2eme-anniversaire-amigos-sem-fronteiras/
LOCATION:Stade de Beggen\, 12\, Rue Henry Dunant\, Luxembourg\, 1426
ATTACH;FMTTYPE=image/jpeg:https://facvl.lu/wp-content/uploads/2025/05/WhatsApp-Image-2025-05-21-at-16.10.30.jpeg
END:VEVENT
BEGIN:VEVENT
DTSTART;TZID=Europe/Paris:20250601T140000
DTEND;TZID=Europe/Paris:20250601T180000
DTSTAMP:20260422T180850
CREATED:20250505T190015Z
LAST-MODIFIED:20250505T190015Z
UID:8567-1748786400-1748800800@facvl.lu
SUMMARY:Journée de l'enfance
DESCRIPTION:
URL:https://facvl.lu/event/journee-de-lenfance/
LOCATION:Salle Uelzecht\, Boulevard Grande Duchesse Charlotte\, Ettelbruck\, L-9024
ATTACH;FMTTYPE=image/jpeg:https://facvl.lu/wp-content/uploads/2025/03/ec48189e-c6bd-47c3-b761-c517b815d659.jpeg
ORGANIZER;CN="Estrela%20do%20Norte":MAILTO:fcestrelaamadora@hotmail.fr
END:VEVENT
BEGIN:VEVENT
DTSTART;TZID=Europe/Paris:20250607T100000
DTEND;TZID=Europe/Paris:20250608T020100
DTSTAMP:20260422T180850
CREATED:20241129T093157Z
LAST-MODIFIED:20250519T201905Z
UID:7843-1749290400-1749348060@facvl.lu
SUMMARY:Tournoi de football Inter-Ilhas
DESCRIPTION:
URL:https://facvl.lu/event/tournoi-de-football-inter-ilhas/
ATTACH;FMTTYPE=image/jpeg:https://facvl.lu/wp-content/uploads/2024/11/495602264_661511113463645_2836222480179053652_n.jpg
END:VEVENT
BEGIN:VEVENT
DTSTART;TZID=Europe/Paris:20250607T230000
DTEND;TZID=Europe/Paris:20250608T053000
DTSTAMP:20260422T180850
CREATED:20250526T191903Z
LAST-MODIFIED:20250526T192036Z
UID:8638-1749337200-1749360600@facvl.lu
SUMMARY:Pé no pescoço - Prego & Friends
DESCRIPTION:CARTAZ OFICIAL LANÇADO! \n\nEstá tudo pronto para o maior show do verão em Luxemburgo!\n\n\n\n07 de junho\n\n Lenox – 58\, Rue du Fort Neipperg\, Luxembourg L-2230\n\n\n PÉ NO PESCOÇO\nPrego & Friends a comandar o palco com um elenco de peso:\n\n\n\nConvidados especiais:\n Hleo Lovink | Dj-Aka-m | Doody | Zé Espanhol | Nuno do Guetto |\n Lee Smith | Pior Repórter do Mundo | Lost\n\n\nVem viver uma noite única com música\, energia e muito show!\n\nOs bilhetes estão a voar! Garante já o teu!\n\n\n\n +INFO & RESERVAS:\n+352 691 121 604 | +352 661 336 478 | +352 621 418 326\n\n\nOrganização: 2P Event’s x K VibeZ\nApoio: JJ Eventos
URL:https://facvl.lu/event/pe-no-pescoco-prego-friends/
LOCATION:Lenox\, 58\, rue du Fort Neipperg\, Luxembourg-Gare\, L-2230
ATTACH;FMTTYPE=image/jpeg:https://facvl.lu/wp-content/uploads/2025/05/497783043_18412349506100206_7499240472978803312_n-1.jpg
END:VEVENT
BEGIN:VEVENT
DTSTART;TZID=Europe/Paris:20250614T100000
DTEND;TZID=Europe/Paris:20250615T190000
DTSTAMP:20260422T180850
CREATED:20250613T112257Z
LAST-MODIFIED:20250613T112257Z
UID:8717-1749895200-1750014000@facvl.lu
SUMMARY:Tournoi International
DESCRIPTION:
URL:https://facvl.lu/event/tournoi-international/
LOCATION:Stade de Beggen\, 12\, Rue Henry Dunant\, Luxembourg\, 1426
ATTACH;FMTTYPE=image/jpeg:https://facvl.lu/wp-content/uploads/2025/06/regt.jpg
END:VEVENT
BEGIN:VEVENT
DTSTART;TZID=Europe/Paris:20250614T120000
DTEND;TZID=Europe/Paris:20250614T200000
DTSTAMP:20260422T180850
CREATED:20250504T210517Z
LAST-MODIFIED:20250504T211555Z
UID:8549-1749902400-1749931200@facvl.lu
SUMMARY:Inauguration du Parc Cabo Verde
DESCRIPTION:
URL:https://facvl.lu/event/inauguration-du-parc-cabo-verde/
LOCATION:Florange\, Avenue de Bratagne\, Florange\, France
ATTACH;FMTTYPE=image/jpeg:https://facvl.lu/wp-content/uploads/2025/05/r.jpg
END:VEVENT
BEGIN:VEVENT
DTSTART;TZID=Europe/Paris:20250621T100000
DTEND;TZID=Europe/Paris:20250621T190000
DTSTAMP:20260422T180850
CREATED:20250526T190052Z
LAST-MODIFIED:20250526T190134Z
UID:8627-1750500000-1750532400@facvl.lu
SUMMARY:Tournoi de SonJon - Memaia
DESCRIPTION:
URL:https://facvl.lu/event/tournoi-de-sonjon-memaia/
LOCATION:Terrain synthétique Woiwer\, 158\, rue Neuwies\, Oberkorn\, Differdange\, L-4635
ATTACH;FMTTYPE=image/jpeg:https://facvl.lu/wp-content/uploads/2025/05/t5t.jpg
END:VEVENT
BEGIN:VEVENT
DTSTART;TZID=Europe/Paris:20250622T190000
DTEND;TZID=Europe/Paris:20250623T030000
DTSTAMP:20260422T180850
CREATED:20250526T192538Z
LAST-MODIFIED:20250526T192617Z
UID:8644-1750618800-1750647600@facvl.lu
SUMMARY:Nôs Sonjon
DESCRIPTION:
URL:https://facvl.lu/event/nos-sonjon/
LOCATION:Salle Kulturshapp\, 15\, rue Kulturshapp\, Ehlerange\, Sanem\, L-4380
ATTACH;FMTTYPE=image/jpeg:https://facvl.lu/wp-content/uploads/2025/05/500632349_17968206824910367_1960443815132959491_n.jpg
END:VEVENT
BEGIN:VEVENT
DTSTART;TZID=Europe/Paris:20250628T090000
DTEND;TZID=Europe/Paris:20250629T200000
DTSTAMP:20260422T180850
CREATED:20250504T210113Z
LAST-MODIFIED:20250504T210609Z
UID:8544-1751101200-1751227200@facvl.lu
SUMMARY:Les Lusofolies - Ukange
DESCRIPTION:ʟᴜꜱᴏ’ꜰᴏʟɪᴇꜱ 2025 – ꜰᴇꜱᴛɪᴠᴀʟ ᴅᴇꜱ ᴄᴜʟᴛᴜʀᴇꜱ ʟᴜꜱᴏᴘʜᴏɴᴇꜱ  Samedi 28 & dimanche 29 juin 2025 Fameck & Uckange\nÀ l’occasion du 50e anniversaire de l’indépendance du Cap-Vert\, l’Association Franco-Capverdienne de Moselle vous invite à vivre un week-end exceptionnel placé sous le signe de la culture\, de la fête et du partage\, en rassemblant toute la diversité des cultures lusophones !\nAU PROGRAMME : ꜱᴀᴍᴇᴅɪ 28 ᴊᴜɪɴ ᴅᴇ 9ʜ à 18ʜ – ꜱᴛᴀᴅᴇ ᴅᴇ ꜰᴀᴍᴇᴄᴋ Tournoi de football\n ꜱᴀᴍᴇᴅɪ 28 ᴊᴜɪɴ ᴅᴇ 18ʜ à 1ʜ – ᴘᴀʀᴄ ᴅᴜ ʜᴀᴜᴛ ꜰᴏᴜʀɴᴇᴀᴜ ᴜ4 à ᴜᴄᴋᴀɴɢᴇ Concert\, animations et spectacles\n ᴅɪᴍᴀɴᴄʜᴇ 29 ᴊᴜɪɴ ᴅᴇ 12ʜ à 20ʜ – ᴘᴀʀᴄ ᴅᴜ ʜᴀᴜᴛ ꜰᴏᴜʀɴᴇᴀᴜ ᴜ4 à ᴜᴄᴋᴀɴɢᴇ Célébration de la Saint Jean\nUn grand rassemblement ouvert à tous pour célébrer ensemble les liens qui unissent les peuples du Cap-Vert\, de l’Angola\, du Mozambique\, du Portugal\, de la Guinée-Bissau et de toutes les diasporas !Un week-end festif à ne pas manquer !
URL:https://facvl.lu/event/les-lusofolies-ukange/
LOCATION:Fameck et Ukange\, France
ATTACH;FMTTYPE=image/jpeg:https://facvl.lu/wp-content/uploads/2025/05/491396819_1086477083516490_4632301822007034030_n.jpg
END:VEVENT
END:VCALENDAR