BEGIN:VCALENDAR
VERSION:2.0
PRODID:-//FACVL - ECPv6.0.8//NONSGML v1.0//EN
CALSCALE:GREGORIAN
METHOD:PUBLISH
X-ORIGINAL-URL:https://facvl.lu
X-WR-CALDESC:évènements pour FACVL
REFRESH-INTERVAL;VALUE=DURATION:PT1H
X-Robots-Tag:noindex
X-PUBLISHED-TTL:PT1H
BEGIN:VTIMEZONE
TZID:Europe/Paris
BEGIN:DAYLIGHT
TZOFFSETFROM:+0100
TZOFFSETTO:+0200
TZNAME:CEST
DTSTART:20260329T010000
END:DAYLIGHT
BEGIN:STANDARD
TZOFFSETFROM:+0200
TZOFFSETTO:+0100
TZNAME:CET
DTSTART:20261025T010000
END:STANDARD
END:VTIMEZONE
BEGIN:VEVENT
DTSTART;TZID=Europe/Paris:20260426T150000
DTEND;TZID=Europe/Paris:20260426T150000
DTSTAMP:20260422T002624
CREATED:20260413T103413Z
LAST-MODIFIED:20260413T103413Z
UID:10931-1777215600-1777215600@facvl.lu
SUMMARY:D'ici et d'ailleurs - Littératures de l'indépendance
DESCRIPTION:
URL:https://facvl.lu/event/dici-et-dailleurs-litteratures-de-lindependance/
LOCATION:Centre de Documentation sur les Migrations Humaines (CDMH) – Dudelange\, Dudelange
ATTACH;FMTTYPE=image/png:https://facvl.lu/wp-content/uploads/2026/04/Capture-decran-2026-04-13-080747.png
END:VEVENT
BEGIN:VEVENT
DTSTART;TZID=Europe/Paris:20260501T160000
DTEND;TZID=Europe/Paris:20260501T160000
DTSTAMP:20260422T002624
CREATED:20260421T133349Z
LAST-MODIFIED:20260421T133349Z
UID:11017-1777651200-1777651200@facvl.lu
SUMMARY:GRELHADA DO TRABALHADOR
DESCRIPTION:
URL:https://facvl.lu/event/grelhada-do-trabalhador/
LOCATION:Associação Amizade cabo-verdiana\, Rue Michel Welter\, Luxembourg
ATTACH;FMTTYPE=image/jpeg:https://facvl.lu/wp-content/uploads/2026/04/1.jpeg
END:VEVENT
BEGIN:VEVENT
DTSTART;VALUE=DATE:20260502
DTEND;VALUE=DATE:20260503
DTSTAMP:20260422T002624
CREATED:20260113T091948Z
LAST-MODIFIED:20260113T091948Z
UID:9732-1777680000-1777766399@facvl.lu
SUMMARY:I Love Santo Antão - Luxembourg
DESCRIPTION:
URL:https://facvl.lu/event/i-love-santo-antao-luxembourg/
LOCATION:Encore\, 41\, Rue de Bouillon\, Luxembourg\, 1248
ATTACH;FMTTYPE=image/jpeg:https://facvl.lu/wp-content/uploads/2026/01/ILSantoAntao.jpg
END:VEVENT
BEGIN:VEVENT
DTSTART;VALUE=DATE:20260509
DTEND;VALUE=DATE:20260510
DTSTAMP:20260422T002624
CREATED:20260407T083226Z
LAST-MODIFIED:20260407T083517Z
UID:10901-1778284800-1778371199@facvl.lu
SUMMARY:FOIRE CULTURELLE DU CAP-VERT
DESCRIPTION:
URL:https://facvl.lu/event/foire-culturelle-du-cap-vert/
LOCATION:Salle Agora\, 26\, rue Jean Moulin\, Russange\, F-57390\, France
ATTACH;FMTTYPE=image/jpeg:https://facvl.lu/wp-content/uploads/2026/04/662648511_4340346022887579_8244653795012966280_n.jpg
END:VEVENT
BEGIN:VEVENT
DTSTART;TZID=Europe/Paris:20260516T200000
DTEND;TZID=Europe/Paris:20260516T200000
DTSTAMP:20260422T002624
CREATED:20260327T173039Z
LAST-MODIFIED:20260327T173039Z
UID:10820-1778961600-1778961600@facvl.lu
SUMMARY:GRUPO PILON - Festival des Cultures Differdange
DESCRIPTION:
URL:https://facvl.lu/event/grupo-pilon-festival-des-cultures-differdange/
LOCATION:Parc Gerlache – Differdange
ATTACH;FMTTYPE=image/png:https://facvl.lu/wp-content/uploads/2026/03/Capture-decran-2026-03-27-182050.png
END:VEVENT
BEGIN:VEVENT
DTSTART;TZID=Europe/Paris:20260518T183000
DTEND;TZID=Europe/Paris:20260518T183000
DTSTAMP:20260422T002624
CREATED:20260413T103931Z
LAST-MODIFIED:20260413T103931Z
UID:10936-1779129000-1779129000@facvl.lu
SUMMARY:Inanttendu - Ka speradu ki ka ta kaba
DESCRIPTION:
URL:https://facvl.lu/event/inanttendu-ka-speradu-ki-ka-ta-kaba/
ATTACH;FMTTYPE=image/png:https://facvl.lu/wp-content/uploads/2026/04/Capture-decran-2026-04-13-080009.png
END:VEVENT
BEGIN:VEVENT
DTSTART;VALUE=DATE:20260523
DTEND;VALUE=DATE:20260526
DTSTAMP:20260422T002624
CREATED:20260202T135457Z
LAST-MODIFIED:20260202T135457Z
UID:10041-1779494400-1779753599@facvl.lu
SUMMARY:Inter Ilhas
DESCRIPTION:
URL:https://facvl.lu/event/inter-ilhas-2/
LOCATION:Stade de Beggen\, 12\, Rue Henry Dunant\, Luxembourg\, 1426
ATTACH;FMTTYPE=image/jpeg:https://facvl.lu/wp-content/uploads/2026/02/626714493_1322463803245876_4636190967896223409_n.jpg
END:VEVENT
BEGIN:VEVENT
DTSTART;VALUE=DATE:20260524
DTEND;VALUE=DATE:20260525
DTSTAMP:20260422T002624
CREATED:20260420T094608Z
LAST-MODIFIED:20260420T094608Z
UID:11011-1779580800-1779667199@facvl.lu
SUMMARY:Inter Ilhas AFTER PARTY
DESCRIPTION:
URL:https://facvl.lu/event/inter-ilhas-after-party/
LOCATION:Encore\, 41\, Rue de Bouillon\, Luxembourg\, 1248
ATTACH;FMTTYPE=image/jpeg:https://facvl.lu/wp-content/uploads/2026/04/674243163_1480856887167882_8883463230299820879_n.jpg
END:VEVENT
BEGIN:VEVENT
DTSTART;VALUE=DATE:20260530
DTEND;VALUE=DATE:20260531
DTSTAMP:20260422T002624
CREATED:20260220T073900Z
LAST-MODIFIED:20260220T073900Z
UID:10211-1780099200-1780185599@facvl.lu
SUMMARY:42ème Tournoi international de Football
DESCRIPTION:
URL:https://facvl.lu/event/42eme-tournoi-international-de-football/
LOCATION:Ettelbruck
ATTACH;FMTTYPE=image/jpeg:https://facvl.lu/wp-content/uploads/2026/02/Sans-titre-1.jpg
END:VEVENT
BEGIN:VEVENT
DTSTART;TZID=Europe/Paris:20260606T220000
DTEND;TZID=Europe/Paris:20260607T030000
DTSTAMP:20260422T002624
CREATED:20260414T064751Z
LAST-MODIFIED:20260414T064751Z
UID:10957-1780783200-1780801200@facvl.lu
SUMMARY:TABANKA DJAZ
DESCRIPTION:
URL:https://facvl.lu/event/tabanka-djaz/
LOCATION:HALL-O\, Av. du Parc des Sports\, Oberkorn\, 4761
ATTACH;FMTTYPE=image/jpeg:https://facvl.lu/wp-content/uploads/2026/04/Sans-titre-1.jpg
END:VEVENT
BEGIN:VEVENT
DTSTART;TZID=Europe/Paris:20260613T210000
DTEND;TZID=Europe/Paris:20260614T030000
DTSTAMP:20260422T002624
CREATED:20260415T064828Z
LAST-MODIFIED:20260415T064828Z
UID:10966-1781384400-1781406000@facvl.lu
SUMMARY:KRÉOL OLD SCHOOL
DESCRIPTION:
URL:https://facvl.lu/event/kreol-old-school/
LOCATION:Hall Irbicht\, 1\, rue Irbicht\, Mersch\, L-7590
ATTACH;FMTTYPE=image/jpeg:https://facvl.lu/wp-content/uploads/2026/04/Sans-titre-2.jpg
END:VEVENT
BEGIN:VEVENT
DTSTART;VALUE=DATE:20260627
DTEND;VALUE=DATE:20260628
DTSTAMP:20260422T002624
CREATED:20260202T083444Z
LAST-MODIFIED:20260202T083444Z
UID:10036-1782518400-1782604799@facvl.lu
SUMMARY:SONJON
DESCRIPTION:
URL:https://facvl.lu/event/sonjon/
ATTACH;FMTTYPE=image/jpeg:https://facvl.lu/wp-content/uploads/2026/02/WhatsApp-Image-2026-02-01-at-10.53.21.jpeg
END:VEVENT
BEGIN:VEVENT
DTSTART;TZID=Europe/Paris:20260704T220000
DTEND;TZID=Europe/Paris:20260704T220000
DTSTAMP:20260422T002624
CREATED:20260304T075022Z
LAST-MODIFIED:20260304T075022Z
UID:10424-1783202400-1783202400@facvl.lu
SUMMARY:Festa de branco
DESCRIPTION:
URL:https://facvl.lu/event/festa-de-branco/
LOCATION:Salle Alen Atelier\, 17\, Rue de la Gare\, Schieren\, 9125\, Luxembourg
ATTACH;FMTTYPE=image/jpeg:https://facvl.lu/wp-content/uploads/2026/03/644250092_1694901815252202_4752495729467069524_n.jpg
END:VEVENT
BEGIN:VEVENT
DTSTART;VALUE=DATE:20260711
DTEND;VALUE=DATE:20260712
DTSTAMP:20260422T002624
CREATED:20260323T141519Z
LAST-MODIFIED:20260323T141519Z
UID:10646-1783728000-1783814399@facvl.lu
SUMMARY:Célébration de la JOURNÉE DE L'INDÉPENDANCE
DESCRIPTION:
URL:https://facvl.lu/event/celebration-de-la-journee-de-lindependance/
LOCATION:Parc BAN de Gasperich
ATTACH;FMTTYPE=image/png:https://facvl.lu/wp-content/uploads/2026/03/3.png
END:VEVENT
BEGIN:VEVENT
DTSTART;VALUE=DATE:20260717
DTEND;VALUE=DATE:20260720
DTSTAMP:20260422T002624
CREATED:20260113T082624Z
LAST-MODIFIED:20260113T082624Z
UID:9724-1784246400-1784505599@facvl.lu
SUMMARY:Weekend Capverdien
DESCRIPTION:
URL:https://facvl.lu/event/weekend-capverdien-2/
LOCATION:Däichhal\, Ettelbruck
ATTACH;FMTTYPE=image/jpeg:https://facvl.lu/wp-content/uploads/2026/01/IMG-20260113-WA0003.jpg
END:VEVENT
END:VCALENDAR