BEGIN:VCALENDAR
VERSION:2.0
PRODID:-//FACVL - ECPv6.0.8//NONSGML v1.0//EN
CALSCALE:GREGORIAN
METHOD:PUBLISH
X-WR-CALNAME:FACVL
X-ORIGINAL-URL:https://facvl.lu
X-WR-CALDESC:évènements pour FACVL
REFRESH-INTERVAL;VALUE=DURATION:PT1H
X-Robots-Tag:noindex
X-PUBLISHED-TTL:PT1H
BEGIN:VTIMEZONE
TZID:Europe/Paris
BEGIN:DAYLIGHT
TZOFFSETFROM:+0100
TZOFFSETTO:+0200
TZNAME:CEST
DTSTART:20260329T010000
END:DAYLIGHT
BEGIN:STANDARD
TZOFFSETFROM:+0200
TZOFFSETTO:+0100
TZNAME:CET
DTSTART:20261025T010000
END:STANDARD
END:VTIMEZONE
BEGIN:VEVENT
DTSTART;TZID=Europe/Paris:20260331T193000
DTEND;TZID=Europe/Paris:20260331T193000
DTSTAMP:20260422T040824
CREATED:20260327T172607Z
LAST-MODIFIED:20260330T080153Z
UID:10814-1774985400-1774985400@facvl.lu
SUMMARY:Match Amical AS RED BLACK - MINDELENSE
DESCRIPTION:
URL:https://facvl.lu/event/match-amical-as-red-black-mindelense/
LOCATION:Pafendall\, 100\, Rue Laurent Ménager\, Luxembourg
ATTACH;FMTTYPE=image/jpeg:https://facvl.lu/wp-content/uploads/2026/03/Sans-titre-5.jpg
END:VEVENT
END:VCALENDAR