BEGIN:VCALENDAR
VERSION:2.0
PRODID:-//FACVL - ECPv6.0.8//NONSGML v1.0//EN
CALSCALE:GREGORIAN
METHOD:PUBLISH
X-ORIGINAL-URL:https://facvl.lu
X-WR-CALDESC:évènements pour FACVL
REFRESH-INTERVAL;VALUE=DURATION:PT1H
X-Robots-Tag:noindex
X-PUBLISHED-TTL:PT1H
BEGIN:VTIMEZONE
TZID:Europe/Paris
BEGIN:DAYLIGHT
TZOFFSETFROM:+0100
TZOFFSETTO:+0200
TZNAME:CEST
DTSTART:20260329T010000
END:DAYLIGHT
BEGIN:STANDARD
TZOFFSETFROM:+0200
TZOFFSETTO:+0100
TZNAME:CET
DTSTART:20261025T010000
END:STANDARD
END:VTIMEZONE
BEGIN:VEVENT
DTSTART;TZID=Europe/Paris:20260328T153000
DTEND;TZID=Europe/Paris:20260328T153000
DTSTAMP:20260422T041210
CREATED:20260317T125619Z
LAST-MODIFIED:20260317T183510Z
UID:10599-1774711800-1774711800@facvl.lu
SUMMARY:Encontro de Mulheres Cabo-verdianas
DESCRIPTION:
URL:https://facvl.lu/event/encontro-de-mulheres-cabo-verdianas/
LOCATION:Sede de Estrela do Norte\, 50\, Boulevard Grand-Duchesse Charlotte\, Ettelbruck
ATTACH;FMTTYPE=image/jpeg:https://facvl.lu/wp-content/uploads/2026/03/WhatsApp-Image-2026-03-16-at-16.34.39-1.jpeg
END:VEVENT
BEGIN:VEVENT
DTSTART;TZID=Europe/Paris:20260328T190000
DTEND;TZID=Europe/Paris:20260328T190000
DTSTAMP:20260422T041210
CREATED:20260113T083032Z
LAST-MODIFIED:20260126T120822Z
UID:9729-1774724400-1774724400@facvl.lu
SUMMARY:Noite de Gala - Dia da Mulher Caboverdiana
DESCRIPTION:
URL:https://facvl.lu/event/noite-de-gala-dia-da-mulher-caboverdiana/
LOCATION:Centre Culturel de Cessange\, 1\, Rue St. Joseph\, Luxembourg\, 1838
ATTACH;FMTTYPE=image/png:https://facvl.lu/wp-content/uploads/2026/01/1.png
END:VEVENT
BEGIN:VEVENT
DTSTART;TZID=Europe/Paris:20260328T200000
DTEND;TZID=Europe/Paris:20260329T030000
DTSTAMP:20260422T041210
CREATED:20260317T130002Z
LAST-MODIFIED:20260317T130142Z
UID:10606-1774728000-1774753200@facvl.lu
SUMMARY:Feliz DIA DA MULHER CABO-VERDIANA
DESCRIPTION:
URL:https://facvl.lu/event/feliz-dia-da-mulher-cabo_verdiana/
ATTACH;FMTTYPE=image/jpeg:https://facvl.lu/wp-content/uploads/2026/03/WhatsApp-Image-2026-03-17-at-12.16.32.jpeg
END:VEVENT
BEGIN:VEVENT
DTSTART;TZID=Europe/Paris:20260328T220000
DTEND;TZID=Europe/Paris:20260329T030000
DTSTAMP:20260422T041210
CREATED:20260326T151234Z
LAST-MODIFIED:20260326T151234Z
UID:10725-1774735200-1774753200@facvl.lu
SUMMARY:DJ SEMEDO - Dia da mulher caboverdiana
DESCRIPTION:
URL:https://facvl.lu/event/dj-semedo-dia-da-mulher-caboverdiana/
LOCATION:Café la Poste\, 7\, Esplanade\, Diekirch\, 9227
ATTACH;FMTTYPE=image/jpeg:https://facvl.lu/wp-content/uploads/2026/03/655930582_10240199862592356_1454196530793875823_n.jpg
END:VEVENT
END:VCALENDAR