BEGIN:VCALENDAR
VERSION:2.0
PRODID:-//FACVL - ECPv6.0.8//NONSGML v1.0//EN
CALSCALE:GREGORIAN
METHOD:PUBLISH
X-ORIGINAL-URL:https://facvl.lu
X-WR-CALDESC:évènements pour FACVL
REFRESH-INTERVAL;VALUE=DURATION:PT1H
X-Robots-Tag:noindex
X-PUBLISHED-TTL:PT1H
BEGIN:VTIMEZONE
TZID:Europe/Paris
BEGIN:DAYLIGHT
TZOFFSETFROM:+0100
TZOFFSETTO:+0200
TZNAME:CEST
DTSTART:20260329T010000
END:DAYLIGHT
BEGIN:STANDARD
TZOFFSETFROM:+0200
TZOFFSETTO:+0100
TZNAME:CET
DTSTART:20261025T010000
END:STANDARD
END:VTIMEZONE
BEGIN:VEVENT
DTSTART;VALUE=DATE:20260210
DTEND;VALUE=DATE:20260215
DTSTAMP:20260422T061745
CREATED:20260121T083456Z
LAST-MODIFIED:20260121T083456Z
UID:9894-1770681600-1771113599@facvl.lu
SUMMARY:Semaine de solidarité
DESCRIPTION:
URL:https://facvl.lu/event/semaine-de-solidarite/
LOCATION:Châlet de Bonnevoie\, 115\, Rue Anatole France\, Bonnevoie\, 1260
ATTACH;FMTTYPE=image/jpeg:https://facvl.lu/wp-content/uploads/2026/01/616819479_122157383672739011_8615675790831692212_n.jpg
END:VEVENT
BEGIN:VEVENT
DTSTART;TZID=Europe/Paris:20260214T190000
DTEND;TZID=Europe/Paris:20260214T190000
DTSTAMP:20260422T061745
CREATED:20260115T070833Z
LAST-MODIFIED:20260115T070833Z
UID:9820-1771095600-1771095600@facvl.lu
SUMMARY:Saint Valentin - Jantar de Gala
DESCRIPTION:
URL:https://facvl.lu/event/saint-valentin-jantar-de-gala/
LOCATION:Centre Culturel de Rumelange\, 90\, N33\, Rumelange\, 3730
ATTACH;FMTTYPE=image/jpeg:https://facvl.lu/wp-content/uploads/2026/01/IMG-20260115-WA0000.jpg
END:VEVENT
BEGIN:VEVENT
DTSTART;TZID=Europe/Paris:20260214T190000
DTEND;TZID=Europe/Paris:20260215T060000
DTSTAMP:20260422T061745
CREATED:20260202T155521Z
LAST-MODIFIED:20260202T155521Z
UID:10049-1771095600-1771135200@facvl.lu
SUMMARY:LOVE NIGHT - Valentines Day
DESCRIPTION:
URL:https://facvl.lu/event/love-night-valentines-day/
LOCATION:Food Station\, 28\, Place de la Gare\, Luxembourg\, 1616
ATTACH;FMTTYPE=image/jpeg:https://facvl.lu/wp-content/uploads/2026/02/WhatsApp-Image-2026-02-02-at-16.07.03.jpeg
END:VEVENT
BEGIN:VEVENT
DTSTART;TZID=Europe/Paris:20260214T220000
DTEND;TZID=Europe/Paris:20260315T030000
DTSTAMP:20260422T061745
CREATED:20260116T071211Z
LAST-MODIFIED:20260116T071211Z
UID:9843-1771106400-1773543600@facvl.lu
SUMMARY:ARAGAO LIVE SHOWCASE
DESCRIPTION:
URL:https://facvl.lu/event/aragao-live-showcase/
LOCATION:Black Belval\, 371\, route de Belval\, Esch-sur-Alzette\, 4024
ATTACH;FMTTYPE=image/jpeg:https://facvl.lu/wp-content/uploads/2026/01/ARAGAOLIVESHOWCASE.jpg
END:VEVENT
END:VCALENDAR