BEGIN:VCALENDAR
VERSION:2.0
PRODID:-//FACVL - ECPv6.0.8//NONSGML v1.0//EN
CALSCALE:GREGORIAN
METHOD:PUBLISH
X-WR-CALNAME:FACVL
X-ORIGINAL-URL:https://facvl.lu
X-WR-CALDESC:évènements pour FACVL
REFRESH-INTERVAL;VALUE=DURATION:PT1H
X-Robots-Tag:noindex
X-PUBLISHED-TTL:PT1H
BEGIN:VTIMEZONE
TZID:Europe/Paris
BEGIN:DAYLIGHT
TZOFFSETFROM:+0100
TZOFFSETTO:+0200
TZNAME:CEST
DTSTART:20250330T010000
END:DAYLIGHT
BEGIN:STANDARD
TZOFFSETFROM:+0200
TZOFFSETTO:+0100
TZNAME:CET
DTSTART:20251026T010000
END:STANDARD
END:VTIMEZONE
BEGIN:VEVENT
DTSTART;TZID=Europe/Paris:20251214T170000
DTEND;TZID=Europe/Paris:20251217T200000
DTSTAMP:20260422T093636
CREATED:20251124T214139Z
LAST-MODIFIED:20251124T214139Z
UID:9260-1765731600-1766001600@facvl.lu
SUMMARY:Exposition d'hiver 2025
DESCRIPTION:Une partie des bénéfices des ventes sera remise à l’Association Capverdienne du Sud de Luxembourg
URL:https://facvl.lu/event/exposition-dhiver-2025/
LOCATION:Centre Culturel de Rodange\, 81\, Av. Dr Gaasch\, Rodange\, L-4818
ATTACH;FMTTYPE=image/jpeg:https://facvl.lu/wp-content/uploads/2025/11/hg.jpeg
END:VEVENT
END:VCALENDAR