BEGIN:VCALENDAR
VERSION:2.0
PRODID:-//FACVL - ECPv6.0.8//NONSGML v1.0//EN
CALSCALE:GREGORIAN
METHOD:PUBLISH
X-WR-CALNAME:FACVL
X-ORIGINAL-URL:https://facvl.lu
X-WR-CALDESC:évènements pour FACVL
REFRESH-INTERVAL;VALUE=DURATION:PT1H
X-Robots-Tag:noindex
X-PUBLISHED-TTL:PT1H
BEGIN:VTIMEZONE
TZID:Europe/Paris
BEGIN:DAYLIGHT
TZOFFSETFROM:+0100
TZOFFSETTO:+0200
TZNAME:CEST
DTSTART:20250330T010000
END:DAYLIGHT
BEGIN:STANDARD
TZOFFSETFROM:+0200
TZOFFSETTO:+0100
TZNAME:CET
DTSTART:20251026T010000
END:STANDARD
END:VTIMEZONE
BEGIN:VEVENT
DTSTART;TZID=Europe/Paris:20251213T180000
DTEND;TZID=Europe/Paris:20251213T180000
DTSTAMP:20260422T093621
CREATED:20251212T073707Z
LAST-MODIFIED:20251212T074024Z
UID:9373-1765648800-1765648800@facvl.lu
SUMMARY:Veteranos do Norte inaugure un nouveau siège
DESCRIPTION:
URL:https://facvl.lu/event/inauguration-du-nouveau-siege/
LOCATION:Ettelbruck
ATTACH;FMTTYPE=image/jpeg:https://facvl.lu/wp-content/uploads/2025/12/Veteranos-do-Norte.jpg
END:VEVENT
END:VCALENDAR