BEGIN:VCALENDAR
VERSION:2.0
PRODID:-//FACVL - ECPv6.0.8//NONSGML v1.0//EN
CALSCALE:GREGORIAN
METHOD:PUBLISH
X-WR-CALNAME:FACVL
X-ORIGINAL-URL:https://facvl.lu
X-WR-CALDESC:évènements pour FACVL
REFRESH-INTERVAL;VALUE=DURATION:PT1H
X-Robots-Tag:noindex
X-PUBLISHED-TTL:PT1H
BEGIN:VTIMEZONE
TZID:Europe/Paris
BEGIN:DAYLIGHT
TZOFFSETFROM:+0100
TZOFFSETTO:+0200
TZNAME:CEST
DTSTART:20250330T010000
END:DAYLIGHT
BEGIN:STANDARD
TZOFFSETFROM:+0200
TZOFFSETTO:+0100
TZNAME:CET
DTSTART:20251026T010000
END:STANDARD
END:VTIMEZONE
BEGIN:VEVENT
DTSTART;TZID=Europe/Paris:20251205T190000
DTEND;TZID=Europe/Paris:20251205T220000
DTSTAMP:20260422T093621
CREATED:20251121T062736Z
LAST-MODIFIED:20251121T113650Z
UID:9250-1764961200-1764972000@facvl.lu
SUMMARY:Groupe Pilon en concert au MusiqCité - Hall Victor Hugo
DESCRIPTION:
URL:https://facvl.lu/event/groupe-pilon-en-concert-au-musiqcite-hall-victor-hugo/
LOCATION:Hall Victor Hugo\, 62\, av. Victor Hugo\, Luxembourg-Limpertsberg\, L-1750
ATTACH;FMTTYPE=image/jpeg:https://facvl.lu/wp-content/uploads/2025/11/573350655_1396878285338675_7037591338776189071_n.jpg
END:VEVENT
END:VCALENDAR