BEGIN:VCALENDAR
VERSION:2.0
PRODID:-//FACVL - ECPv6.0.8//NONSGML v1.0//EN
CALSCALE:GREGORIAN
METHOD:PUBLISH
X-ORIGINAL-URL:https://facvl.lu
X-WR-CALDESC:évènements pour FACVL
REFRESH-INTERVAL;VALUE=DURATION:PT1H
X-Robots-Tag:noindex
X-PUBLISHED-TTL:PT1H
BEGIN:VTIMEZONE
TZID:Europe/Paris
BEGIN:DAYLIGHT
TZOFFSETFROM:+0100
TZOFFSETTO:+0200
TZNAME:CEST
DTSTART:20250330T010000
END:DAYLIGHT
BEGIN:STANDARD
TZOFFSETFROM:+0200
TZOFFSETTO:+0100
TZNAME:CET
DTSTART:20251026T010000
END:STANDARD
END:VTIMEZONE
BEGIN:VEVENT
DTSTART;TZID=Europe/Paris:20251115T180000
DTEND;TZID=Europe/Paris:20251115T210000
DTSTAMP:20260422T112446
CREATED:20251114T134024Z
LAST-MODIFIED:20251114T134024Z
UID:9230-1763229600-1763240400@facvl.lu
SUMMARY:Nireida Lopes en concert à l’association ADASA
DESCRIPTION:
URL:https://facvl.lu/event/nireida-lopes-en-concert-a-lassociation-adasa/
LOCATION:ADASA\, 4\, rue de l'Arcade\, Ettelbruck\, L-9014
ATTACH;FMTTYPE=image/jpeg:https://facvl.lu/wp-content/uploads/2025/11/582002482_1354640596456179_5746588729019889355_n.jpg
END:VEVENT
END:VCALENDAR