BEGIN:VCALENDAR
VERSION:2.0
PRODID:-//FACVL - ECPv6.0.8//NONSGML v1.0//EN
CALSCALE:GREGORIAN
METHOD:PUBLISH
X-ORIGINAL-URL:https://facvl.lu
X-WR-CALDESC:évènements pour FACVL
REFRESH-INTERVAL;VALUE=DURATION:PT1H
X-Robots-Tag:noindex
X-PUBLISHED-TTL:PT1H
BEGIN:VTIMEZONE
TZID:Europe/Paris
BEGIN:DAYLIGHT
TZOFFSETFROM:+0100
TZOFFSETTO:+0200
TZNAME:CEST
DTSTART:20250330T010000
END:DAYLIGHT
BEGIN:STANDARD
TZOFFSETFROM:+0200
TZOFFSETTO:+0100
TZNAME:CET
DTSTART:20251026T010000
END:STANDARD
END:VTIMEZONE
BEGIN:VEVENT
DTSTART;TZID=Europe/Paris:20250928T183000
DTEND;TZID=Europe/Paris:20250928T203000
DTSTAMP:20260422T143338
CREATED:20250926T150904Z
LAST-MODIFIED:20250926T150923Z
UID:8974-1759084200-1759091400@facvl.lu
SUMMARY:Arymar - Les Étoiles du Cap Vert
DESCRIPTION:
URL:https://facvl.lu/event/arymar-les-etoiles-du-cap-vert/
LOCATION:Restaurant Les Étoiles du Cap Vert\, 41 Av. J-F Kennedy\, Ettelbruck\, L-9053
ATTACH;FMTTYPE=image/jpeg:https://facvl.lu/wp-content/uploads/2025/09/f-1.jpeg
END:VEVENT
END:VCALENDAR