BEGIN:VCALENDAR
VERSION:2.0
PRODID:-//FACVL - ECPv6.0.8//NONSGML v1.0//EN
CALSCALE:GREGORIAN
METHOD:PUBLISH
X-ORIGINAL-URL:https://facvl.lu
X-WR-CALDESC:évènements pour FACVL
REFRESH-INTERVAL;VALUE=DURATION:PT1H
X-Robots-Tag:noindex
X-PUBLISHED-TTL:PT1H
BEGIN:VTIMEZONE
TZID:Europe/Paris
BEGIN:DAYLIGHT
TZOFFSETFROM:+0100
TZOFFSETTO:+0200
TZNAME:CEST
DTSTART:20250330T010000
END:DAYLIGHT
BEGIN:STANDARD
TZOFFSETFROM:+0200
TZOFFSETTO:+0100
TZNAME:CET
DTSTART:20251026T010000
END:STANDARD
END:VTIMEZONE
BEGIN:VEVENT
DTSTART;TZID=Europe/Paris:20250921T193000
DTEND;TZID=Europe/Paris:20250921T213000
DTSTAMP:20260422T143355
CREATED:20250829T160322Z
LAST-MODIFIED:20250829T160946Z
UID:8906-1758483000-1758490200@facvl.lu
SUMMARY:Concert Cláudia Sofia Trio - Differdange
DESCRIPTION:📅 21 de setembro 2025 – Le M-Tiss Café Culturel\, 30\, Avenue de la Liberté\, Differdange \n\n💙 Uma parte dos fundos arrecadados será canalizada para apoiar a ilha de São Vicente\, recentemente atingida pela terrível tempestade de 11 de agosto de 2025\, ajudando na reconstrução e solidariedade com as famílias afetadas. \n👉 Venha celebrar a cultura\, a música e a solidariedade cabo-verdiana! \n🎟️ Bilhetes dísponiveís : 25€\nO pagamento pode ser efetuado através de QR Code ou por transferência bancária para a conta da associação: IBAN: LU31 0099 7800 0145 8611\n+352 691880306
URL:https://facvl.lu/event/concert-claudia-sofia-trio-differdange/
LOCATION:Le M-Tiss Café Culturel\, 30\, Avenue de la Liberté\, Differdange\, L-4601
END:VEVENT
END:VCALENDAR