BEGIN:VCALENDAR
VERSION:2.0
PRODID:-//FACVL - ECPv6.0.8//NONSGML v1.0//EN
CALSCALE:GREGORIAN
METHOD:PUBLISH
X-ORIGINAL-URL:https://facvl.lu
X-WR-CALDESC:évènements pour FACVL
REFRESH-INTERVAL;VALUE=DURATION:PT1H
X-Robots-Tag:noindex
X-PUBLISHED-TTL:PT1H
BEGIN:VTIMEZONE
TZID:Europe/Paris
BEGIN:DAYLIGHT
TZOFFSETFROM:+0100
TZOFFSETTO:+0200
TZNAME:CEST
DTSTART:20250330T010000
END:DAYLIGHT
BEGIN:STANDARD
TZOFFSETFROM:+0200
TZOFFSETTO:+0100
TZNAME:CET
DTSTART:20251026T010000
END:STANDARD
END:VTIMEZONE
BEGIN:VEVENT
DTSTART;TZID=Europe/Paris:20250905T160000
DTEND;TZID=Europe/Paris:20250905T213000
DTSTAMP:20260422T143343
CREATED:20250903T203458Z
LAST-MODIFIED:20250903T203458Z
UID:8919-1757088000-1757107800@facvl.lu
SUMMARY:Grillade solidaire - Amizade Cabo-verdiana
DESCRIPTION:
URL:https://facvl.lu/event/grillade-solidaire-amizade-cabo-verdiana/
LOCATION:Amizade Cabo-verdiana\, 19\, rue Michel Welter\, Luxembourg-Ville\, L2730
ATTACH;FMTTYPE=image/jpeg:https://facvl.lu/wp-content/uploads/2025/09/f4.jpeg
END:VEVENT
END:VCALENDAR