BEGIN:VCALENDAR
VERSION:2.0
PRODID:-//FACVL - ECPv6.0.8//NONSGML v1.0//EN
CALSCALE:GREGORIAN
METHOD:PUBLISH
X-WR-CALNAME:FACVL
X-ORIGINAL-URL:https://facvl.lu
X-WR-CALDESC:évènements pour FACVL
REFRESH-INTERVAL;VALUE=DURATION:PT1H
X-Robots-Tag:noindex
X-PUBLISHED-TTL:PT1H
BEGIN:VTIMEZONE
TZID:Europe/Paris
BEGIN:DAYLIGHT
TZOFFSETFROM:+0100
TZOFFSETTO:+0200
TZNAME:CEST
DTSTART:20250330T010000
END:DAYLIGHT
BEGIN:STANDARD
TZOFFSETFROM:+0200
TZOFFSETTO:+0100
TZNAME:CET
DTSTART:20251026T010000
END:STANDARD
END:VTIMEZONE
BEGIN:VEVENT
DTSTART;TZID=Europe/Paris:20250830T200000
DTEND;TZID=Europe/Paris:20250831T030000
DTSTAMP:20260422T155635
CREATED:20250703T212610Z
LAST-MODIFIED:20250703T212610Z
UID:8765-1756584000-1756609200@facvl.lu
SUMMARY:I Love Alto Mira
DESCRIPTION:
URL:https://facvl.lu/event/i-love-alto-mira/
LOCATION:Salle DTS Schifflange\, 1A\, Chemin de Bergem\, Schifflange\, L3817
ATTACH;FMTTYPE=image/jpeg:https://facvl.lu/wp-content/uploads/2025/07/zu.jpg
END:VEVENT
END:VCALENDAR