BEGIN:VCALENDAR
VERSION:2.0
PRODID:-//FACVL - ECPv6.0.8//NONSGML v1.0//EN
CALSCALE:GREGORIAN
METHOD:PUBLISH
X-ORIGINAL-URL:https://facvl.lu
X-WR-CALDESC:évènements pour FACVL
REFRESH-INTERVAL;VALUE=DURATION:PT1H
X-Robots-Tag:noindex
X-PUBLISHED-TTL:PT1H
BEGIN:VTIMEZONE
TZID:Europe/Paris
BEGIN:DAYLIGHT
TZOFFSETFROM:+0100
TZOFFSETTO:+0200
TZNAME:CEST
DTSTART:20250330T010000
END:DAYLIGHT
BEGIN:STANDARD
TZOFFSETFROM:+0200
TZOFFSETTO:+0100
TZNAME:CET
DTSTART:20251026T010000
END:STANDARD
END:VTIMEZONE
BEGIN:VEVENT
DTSTART;TZID=Europe/Paris:20250614T100000
DTEND;TZID=Europe/Paris:20250615T190000
DTSTAMP:20260422T201346
CREATED:20250613T112257Z
LAST-MODIFIED:20250613T112257Z
UID:8717-1749895200-1750014000@facvl.lu
SUMMARY:Tournoi International
DESCRIPTION:
URL:https://facvl.lu/event/tournoi-international/
LOCATION:Stade de Beggen\, 12\, Rue Henry Dunant\, Luxembourg\, 1426
ATTACH;FMTTYPE=image/jpeg:https://facvl.lu/wp-content/uploads/2025/06/regt.jpg
END:VEVENT
BEGIN:VEVENT
DTSTART;TZID=Europe/Paris:20250614T120000
DTEND;TZID=Europe/Paris:20250614T200000
DTSTAMP:20260422T201346
CREATED:20250504T210517Z
LAST-MODIFIED:20250504T211555Z
UID:8549-1749902400-1749931200@facvl.lu
SUMMARY:Inauguration du Parc Cabo Verde
DESCRIPTION:
URL:https://facvl.lu/event/inauguration-du-parc-cabo-verde/
LOCATION:Florange\, Avenue de Bratagne\, Florange\, France
ATTACH;FMTTYPE=image/jpeg:https://facvl.lu/wp-content/uploads/2025/05/r.jpg
END:VEVENT
END:VCALENDAR