BEGIN:VCALENDAR
VERSION:2.0
PRODID:-//FACVL - ECPv6.0.8//NONSGML v1.0//EN
CALSCALE:GREGORIAN
METHOD:PUBLISH
X-WR-CALNAME:FACVL
X-ORIGINAL-URL:https://facvl.lu
X-WR-CALDESC:évènements pour FACVL
REFRESH-INTERVAL;VALUE=DURATION:PT1H
X-Robots-Tag:noindex
X-PUBLISHED-TTL:PT1H
BEGIN:VTIMEZONE
TZID:Europe/Paris
BEGIN:DAYLIGHT
TZOFFSETFROM:+0100
TZOFFSETTO:+0200
TZNAME:CEST
DTSTART:20250330T010000
END:DAYLIGHT
BEGIN:STANDARD
TZOFFSETFROM:+0200
TZOFFSETTO:+0100
TZNAME:CET
DTSTART:20251026T010000
END:STANDARD
END:VTIMEZONE
BEGIN:VEVENT
DTSTART;TZID=Europe/Paris:20250601T120000
DTEND;TZID=Europe/Paris:20250601T220000
DTSTAMP:20260422T200740
CREATED:20250526T191029Z
LAST-MODIFIED:20250526T191029Z
UID:8635-1748779200-1748815200@facvl.lu
SUMMARY:2ème anniversaire 'Amigos Sem Fronteiras'
DESCRIPTION:
URL:https://facvl.lu/event/2eme-anniversaire-amigos-sem-fronteiras/
LOCATION:Stade de Beggen\, 12\, Rue Henry Dunant\, Luxembourg\, 1426
ATTACH;FMTTYPE=image/jpeg:https://facvl.lu/wp-content/uploads/2025/05/WhatsApp-Image-2025-05-21-at-16.10.30.jpeg
END:VEVENT
BEGIN:VEVENT
DTSTART;TZID=Europe/Paris:20250601T140000
DTEND;TZID=Europe/Paris:20250601T180000
DTSTAMP:20260422T200740
CREATED:20250505T190015Z
LAST-MODIFIED:20250505T190015Z
UID:8567-1748786400-1748800800@facvl.lu
SUMMARY:Journée de l'enfance
DESCRIPTION:
URL:https://facvl.lu/event/journee-de-lenfance/
LOCATION:Salle Uelzecht\, Boulevard Grande Duchesse Charlotte\, Ettelbruck\, L-9024
ATTACH;FMTTYPE=image/jpeg:https://facvl.lu/wp-content/uploads/2025/03/ec48189e-c6bd-47c3-b761-c517b815d659.jpeg
ORGANIZER;CN="Estrela%20do%20Norte":MAILTO:fcestrelaamadora@hotmail.fr
END:VEVENT
END:VCALENDAR