BEGIN:VCALENDAR
VERSION:2.0
PRODID:-//FACVL - ECPv6.0.8//NONSGML v1.0//EN
CALSCALE:GREGORIAN
METHOD:PUBLISH
X-ORIGINAL-URL:https://facvl.lu
X-WR-CALDESC:évènements pour FACVL
REFRESH-INTERVAL;VALUE=DURATION:PT1H
X-Robots-Tag:noindex
X-PUBLISHED-TTL:PT1H
BEGIN:VTIMEZONE
TZID:Europe/Paris
BEGIN:DAYLIGHT
TZOFFSETFROM:+0100
TZOFFSETTO:+0200
TZNAME:CEST
DTSTART:20250330T010000
END:DAYLIGHT
BEGIN:STANDARD
TZOFFSETFROM:+0200
TZOFFSETTO:+0100
TZNAME:CET
DTSTART:20251026T010000
END:STANDARD
END:VTIMEZONE
BEGIN:VEVENT
DTSTART;TZID=Europe/Paris:20250517T100000
DTEND;TZID=Europe/Paris:20250518T180000
DTSTAMP:20260422T234546
CREATED:20250504T211331Z
LAST-MODIFIED:20250504T211331Z
UID:8553-1747476000-1747591200@facvl.lu
SUMMARY:Pont Kultural à Rotterdam
DESCRIPTION:
URL:https://facvl.lu/event/pont-kultural-a-rotterdam/
LOCATION:Casa da Cultura / Consulado de Cabo Verde\, Maaskade 44\, Rotterdam\, 3071\, Pays-Bas
ATTACH;FMTTYPE=image/jpeg:https://facvl.lu/wp-content/uploads/2025/05/44.jpg
END:VEVENT
END:VCALENDAR