BEGIN:VCALENDAR
VERSION:2.0
PRODID:-//FACVL - ECPv6.0.8//NONSGML v1.0//EN
CALSCALE:GREGORIAN
METHOD:PUBLISH
X-WR-CALNAME:FACVL
X-ORIGINAL-URL:https://facvl.lu
X-WR-CALDESC:évènements pour FACVL
REFRESH-INTERVAL;VALUE=DURATION:PT1H
X-Robots-Tag:noindex
X-PUBLISHED-TTL:PT1H
BEGIN:VTIMEZONE
TZID:Europe/Paris
BEGIN:DAYLIGHT
TZOFFSETFROM:+0100
TZOFFSETTO:+0200
TZNAME:CEST
DTSTART:20250330T010000
END:DAYLIGHT
BEGIN:STANDARD
TZOFFSETFROM:+0200
TZOFFSETTO:+0100
TZNAME:CET
DTSTART:20251026T010000
END:STANDARD
END:VTIMEZONE
BEGIN:VEVENT
DTSTART;TZID=Europe/Paris:20250422T180000
DTEND;TZID=Europe/Paris:20250508T180000
DTSTAMP:20260422T214309
CREATED:20250228T144321Z
LAST-MODIFIED:20250228T144422Z
UID:8089-1745344800-1746727200@facvl.lu
SUMMARY:Exposition 'Harmonie des Couleurs' - Bia Morais
DESCRIPTION:
URL:https://facvl.lu/event/exposition-harmonie-des-couleurs-bia-morais/
LOCATION:Chambre des Salariés\, 2-4\, rue Pierre Hentges\, Luxembourg-Bonnevoie\, L-1726
ATTACH;FMTTYPE=image/jpeg:https://facvl.lu/wp-content/uploads/2025/02/oj.jpeg
END:VEVENT
BEGIN:VEVENT
DTSTART;TZID=Europe/Paris:20250503T120000
DTEND;TZID=Europe/Paris:20250504T200000
DTSTAMP:20260422T214309
CREATED:20250429T124343Z
LAST-MODIFIED:20250504T211357Z
UID:8536-1746273600-1746388800@facvl.lu
SUMMARY:Pont Kultural à Paris
DESCRIPTION:
URL:https://facvl.lu/event/pont-kultural-a-paris/
LOCATION:Eglise St. Paul de la Plaine\, 29\, rue du Landy\, Saint-Denis\, Paris\, 93210
ATTACH;FMTTYPE=image/jpeg:https://facvl.lu/wp-content/uploads/2025/04/491860201_122121214148739641_8781470172071372755_n.jpg
END:VEVENT
BEGIN:VEVENT
DTSTART;TZID=Europe/Paris:20250503T220000
DTEND;TZID=Europe/Paris:20250504T050000
DTSTAMP:20260422T214309
CREATED:20241129T092257Z
LAST-MODIFIED:20250429T123934Z
UID:7837-1746309600-1746334800@facvl.lu
SUMMARY:I Love Sintanton
DESCRIPTION:
URL:https://facvl.lu/event/i-love-sintanton-2/
LOCATION:Encore\, 41\, Rue de Bouillon\, Luxembourg\, 1248
ATTACH;FMTTYPE=image/jpeg:https://facvl.lu/wp-content/uploads/2024/11/484803735_632108292915996_1821442322525373116_n.jpg
END:VEVENT
END:VCALENDAR