BEGIN:VCALENDAR
VERSION:2.0
PRODID:-//FACVL - ECPv6.0.8//NONSGML v1.0//EN
CALSCALE:GREGORIAN
METHOD:PUBLISH
X-WR-CALNAME:FACVL
X-ORIGINAL-URL:https://facvl.lu
X-WR-CALDESC:évènements pour FACVL
REFRESH-INTERVAL;VALUE=DURATION:PT1H
X-Robots-Tag:noindex
X-PUBLISHED-TTL:PT1H
BEGIN:VTIMEZONE
TZID:Europe/Paris
BEGIN:DAYLIGHT
TZOFFSETFROM:+0100
TZOFFSETTO:+0200
TZNAME:CEST
DTSTART:20250330T010000
END:DAYLIGHT
BEGIN:STANDARD
TZOFFSETFROM:+0200
TZOFFSETTO:+0100
TZNAME:CET
DTSTART:20251026T010000
END:STANDARD
END:VTIMEZONE
BEGIN:VEVENT
DTSTART;TZID=Europe/Paris:20250422T180000
DTEND;TZID=Europe/Paris:20250508T180000
DTSTAMP:20260422T234942
CREATED:20250228T144321Z
LAST-MODIFIED:20250228T144422Z
UID:8089-1745344800-1746727200@facvl.lu
SUMMARY:Exposition 'Harmonie des Couleurs' - Bia Morais
DESCRIPTION:
URL:https://facvl.lu/event/exposition-harmonie-des-couleurs-bia-morais/
LOCATION:Chambre des Salariés\, 2-4\, rue Pierre Hentges\, Luxembourg-Bonnevoie\, L-1726
ATTACH;FMTTYPE=image/jpeg:https://facvl.lu/wp-content/uploads/2025/02/oj.jpeg
END:VEVENT
BEGIN:VEVENT
DTSTART;TZID=Europe/Paris:20250426T210000
DTEND;TZID=Europe/Paris:20250427T030000
DTSTAMP:20260422T234942
CREATED:20250417T190925Z
LAST-MODIFIED:20250417T190925Z
UID:8453-1745701200-1745722800@facvl.lu
SUMMARY:Bal d'anniversaire - Veteranos do Norte
DESCRIPTION:
URL:https://facvl.lu/event/bal-danniversaire-veteranos-do-norte/
LOCATION:Den Atelier\, 17\, rue de la Gare\, Schieren\, L-9122\, Luxembourg
ATTACH;FMTTYPE=image/jpeg:https://facvl.lu/wp-content/uploads/2025/04/IMG_23961.jpg
END:VEVENT
END:VCALENDAR