BEGIN:VCALENDAR
VERSION:2.0
PRODID:-//FACVL - ECPv6.0.8//NONSGML v1.0//EN
CALSCALE:GREGORIAN
METHOD:PUBLISH
X-ORIGINAL-URL:https://facvl.lu
X-WR-CALDESC:évènements pour FACVL
REFRESH-INTERVAL;VALUE=DURATION:PT1H
X-Robots-Tag:noindex
X-PUBLISHED-TTL:PT1H
BEGIN:VTIMEZONE
TZID:Europe/Paris
BEGIN:DAYLIGHT
TZOFFSETFROM:+0100
TZOFFSETTO:+0200
TZNAME:CEST
DTSTART:20250330T010000
END:DAYLIGHT
BEGIN:STANDARD
TZOFFSETFROM:+0200
TZOFFSETTO:+0100
TZNAME:CET
DTSTART:20251026T010000
END:STANDARD
END:VTIMEZONE
BEGIN:VEVENT
DTSTART;TZID=Europe/Paris:20250404T183000
DTEND;TZID=Europe/Paris:20250422T183000
DTSTAMP:20260422T234816
CREATED:20250328T170333Z
LAST-MODIFIED:20250328T170333Z
UID:8272-1743791400-1745346600@facvl.lu
SUMMARY:Exposition Pont Kultural - Bertrange
DESCRIPTION:
URL:https://facvl.lu/event/exposition-pont-kultural-bertrange/
LOCATION:Academie Europeenne des Arts\, 80\, route de Longwy\, Bertrange\, L-8060
ATTACH;FMTTYPE=image/jpeg:https://facvl.lu/wp-content/uploads/2025/03/486003211_122116857860739641_6996592686921401350_n.jpg
END:VEVENT
BEGIN:VEVENT
DTSTART;TZID=Europe/Paris:20250412T130000
DTEND;TZID=Europe/Paris:20250413T190000
DTSTAMP:20260422T234816
CREATED:20250301T204302Z
LAST-MODIFIED:20250301T204302Z
UID:8096-1744462800-1744570800@facvl.lu
SUMMARY:Inter-Ilhas Futsal
DESCRIPTION:
URL:https://facvl.lu/event/inter-ilhas-futsal/
LOCATION:Centre Sportif Münsbach – Schuttrange\, 185\, rue Principale\, Schuttrange\, L-5366
ATTACH;FMTTYPE=image/jpeg:https://facvl.lu/wp-content/uploads/2025/03/WhatsApp-Image-2025-02-28-at-22.38.46.jpeg
END:VEVENT
BEGIN:VEVENT
DTSTART;TZID=Europe/Paris:20250412T210000
DTEND;TZID=Europe/Paris:20250413T030000
DTSTAMP:20260422T234816
CREATED:20250115T192230Z
LAST-MODIFIED:20250115T192230Z
UID:7961-1744491600-1744513200@facvl.lu
SUMMARY:Corncert Cordas do Sol
DESCRIPTION:
URL:https://facvl.lu/event/corncert-cordas-do-sol/
LOCATION:Hall Irbicht\, 1\, rue Irbicht\, Mersch\, L-7590
ATTACH;FMTTYPE=image/jpeg:https://facvl.lu/wp-content/uploads/2025/01/473322836_9253475321399797_1277351767455222753_n.jpg
END:VEVENT
BEGIN:VEVENT
DTSTART;TZID=Europe/Paris:20250412T210000
DTEND;TZID=Europe/Paris:20250413T060000
DTSTAMP:20260422T234816
CREATED:20250307T143810Z
LAST-MODIFIED:20250307T144116Z
UID:8121-1744491600-1744524000@facvl.lu
SUMMARY:Festival Cabo Verde - Luxemburgo 2025
DESCRIPTION:
URL:https://facvl.lu/event/festival-cabo-verde-luxemburgo-2025/
LOCATION:Salle Festikuss\, 3\, rue Jean Anen\, Soleuvre\, L-4413
ATTACH;FMTTYPE=image/jpeg:https://facvl.lu/wp-content/uploads/2025/03/482787874_18032469686550461_1622095660531849334_n.jpg
END:VEVENT
END:VCALENDAR